BEGIN:VCALENDAR
VERSION:2.0
PRODID:-//Rosemont of Virginia - ECPv6.15.20//NONSGML v1.0//EN
CALSCALE:GREGORIAN
METHOD:PUBLISH
X-WR-CALNAME:Rosemont of Virginia
X-ORIGINAL-URL:https://rosemontofvirginia.com
X-WR-CALDESC:Events for Rosemont of Virginia
REFRESH-INTERVAL;VALUE=DURATION:PT1H
X-Robots-Tag:noindex
X-PUBLISHED-TTL:PT1H
BEGIN:VTIMEZONE
TZID:America/New_York
BEGIN:DAYLIGHT
TZOFFSETFROM:-0500
TZOFFSETTO:-0400
TZNAME:EDT
DTSTART:20250309T070000
END:DAYLIGHT
BEGIN:STANDARD
TZOFFSETFROM:-0400
TZOFFSETTO:-0500
TZNAME:EST
DTSTART:20251102T060000
END:STANDARD
BEGIN:DAYLIGHT
TZOFFSETFROM:-0500
TZOFFSETTO:-0400
TZNAME:EDT
DTSTART:20260308T070000
END:DAYLIGHT
BEGIN:STANDARD
TZOFFSETFROM:-0400
TZOFFSETTO:-0500
TZNAME:EST
DTSTART:20261101T060000
END:STANDARD
BEGIN:DAYLIGHT
TZOFFSETFROM:-0500
TZOFFSETTO:-0400
TZNAME:EDT
DTSTART:20270314T070000
END:DAYLIGHT
BEGIN:STANDARD
TZOFFSETFROM:-0400
TZOFFSETTO:-0500
TZNAME:EST
DTSTART:20271107T060000
END:STANDARD
END:VTIMEZONE
BEGIN:VEVENT
DTSTART;TZID=America/New_York:20260105T110000
DTEND;TZID=America/New_York:20260115T180000
DTSTAMP:20260421T065942
CREATED:20251027T154213Z
LAST-MODIFIED:20251027T154213Z
UID:7501-1767610800-1768500000@rosemontofvirginia.com
SUMMARY:Winery Closed
DESCRIPTION:We will be closed Monday\, January 5th\, through Thursday\, January 15th.  We will reopen Friday\, January 16th\, for normal business hours.
URL:https://rosemontofvirginia.com/event/winery-closed-2/
LOCATION:Rosemont\, 1050 Blackridge Road\, LaCrosse\, VA\, 23950\, United States
CATEGORIES:Closings
ATTACH;FMTTYPE=image/jpeg:https://rosemontofvirginia.com/wp-content/uploads/2022/06/pic-winery-sunset-1200.jpg
END:VEVENT
BEGIN:VEVENT
DTSTART;TZID=America/New_York:20260222T130000
DTEND;TZID=America/New_York:20260222T180000
DTSTAMP:20260421T065942
CREATED:20260128T172001Z
LAST-MODIFIED:20260128T172001Z
UID:7552-1771765200-1771783200@rosemontofvirginia.com
SUMMARY:Winery Closed for Club Member Event
DESCRIPTION:The Winery will be closed on Sunday\, February 22nd\, for a Wine & Barrel Club Event.  We apologize for the inconvenience. \nFor more information on our Wine & Barrel Clubs\, click here!
URL:https://rosemontofvirginia.com/event/winery-closed-for-club-member-event-6/
LOCATION:VA
CATEGORIES:Closings
ATTACH;FMTTYPE=image/jpeg:https://rosemontofvirginia.com/wp-content/uploads/2025/06/rosemont-june-06-24-2024-02-2.jpg
END:VEVENT
BEGIN:VEVENT
DTSTART;TZID=America/New_York:20260405T130000
DTEND;TZID=America/New_York:20260405T180000
DTSTAMP:20260421T065942
CREATED:20260310T202300Z
LAST-MODIFIED:20260310T212032Z
UID:7619-1775394000-1775412000@rosemontofvirginia.com
SUMMARY:Winery Closed for Easter
DESCRIPTION:We will be closed on Sunday\, April 5th\, for Easter\, to spend time with our family and friends.  We will reopen Monday\, April 6th\, for normal business hours.
URL:https://rosemontofvirginia.com/event/winery-closed-for-easter-4/
LOCATION:Rosemont\, 1050 Blackridge Road\, LaCrosse\, VA\, 23950\, United States
CATEGORIES:Closings
ATTACH;FMTTYPE=image/jpeg:https://rosemontofvirginia.com/wp-content/uploads/2025/06/rosemont-june-06-24-2024-02-2.jpg
END:VEVENT
BEGIN:VEVENT
DTSTART;TZID=America/New_York:20260502T110000
DTEND;TZID=America/New_York:20260502T180000
DTSTAMP:20260421T065942
CREATED:20260213T181504Z
LAST-MODIFIED:20260213T181504Z
UID:7586-1777719600-1777744800@rosemontofvirginia.com
SUMMARY:Winery Closing at 5pm
DESCRIPTION:We’re sorry for the inconvenience\, but the Winery will be closing at 5pm today for a private event.  To inquire about having your event at Rosemont\, please visit our Events page!
URL:https://rosemontofvirginia.com/event/winery-closing-at-5pm-11/
LOCATION:Rosemont\, 1050 Blackridge Road\, LaCrosse\, VA\, 23950\, United States
CATEGORIES:Closings
ATTACH;FMTTYPE=image/jpeg:https://rosemontofvirginia.com/wp-content/uploads/2025/06/rosemont-june-06-24-2024-02-2.jpg
END:VEVENT
BEGIN:VEVENT
DTSTART;TZID=America/New_York:20260517T130000
DTEND;TZID=America/New_York:20260517T180000
DTSTAMP:20260421T065942
CREATED:20260128T172059Z
LAST-MODIFIED:20260128T172059Z
UID:7554-1779022800-1779040800@rosemontofvirginia.com
SUMMARY:Winery Closed for Club Member Event
DESCRIPTION:The Winery will be closed on Sunday\, May 17th\, for a Wine & Barrel Club Event.  We apologize for the inconvenience. \nFor more information on our Wine & Barrel Clubs\, click here!
URL:https://rosemontofvirginia.com/event/winery-closed-for-club-member-event-7/
LOCATION:VA
CATEGORIES:Closings
ATTACH;FMTTYPE=image/jpeg:https://rosemontofvirginia.com/wp-content/uploads/2025/06/rosemont-june-06-24-2024-02-2.jpg
END:VEVENT
BEGIN:VEVENT
DTSTART;TZID=America/New_York:20260816T130000
DTEND;TZID=America/New_York:20260816T180000
DTSTAMP:20260421T065942
CREATED:20260128T172154Z
LAST-MODIFIED:20260128T172154Z
UID:7556-1786885200-1786903200@rosemontofvirginia.com
SUMMARY:Winery Closed for Club Member Event
DESCRIPTION:The Winery will be closed on Sunday\, August 16th\, for a Wine & Barrel Club Event.  We apologize for the inconvenience. \nFor more information on our Wine & Barrel Clubs\, click here!
URL:https://rosemontofvirginia.com/event/winery-closed-for-club-member-event-8/
LOCATION:VA
CATEGORIES:Closings
ATTACH;FMTTYPE=image/jpeg:https://rosemontofvirginia.com/wp-content/uploads/2025/06/rosemont-june-06-24-2024-02-2.jpg
END:VEVENT
BEGIN:VEVENT
DTSTART;TZID=America/New_York:20261115T130000
DTEND;TZID=America/New_York:20261115T180000
DTSTAMP:20260421T065942
CREATED:20260128T172308Z
LAST-MODIFIED:20260128T172308Z
UID:7558-1794747600-1794765600@rosemontofvirginia.com
SUMMARY:Winery Closed for Club Member Event
DESCRIPTION:The Winery will be closed on Sunday\, November 15th\, for a Wine & Barrel Club Event.  We apologize for the inconvenience. \nFor more information on our Wine & Barrel Clubs\, click here!
URL:https://rosemontofvirginia.com/event/winery-closed-for-club-member-event-9/
LOCATION:VA
CATEGORIES:Closings
ATTACH;FMTTYPE=image/jpeg:https://rosemontofvirginia.com/wp-content/uploads/2025/06/rosemont-june-06-24-2024-02-2.jpg
END:VEVENT
BEGIN:VEVENT
DTSTART;TZID=America/New_York:20261115T130000
DTEND;TZID=America/New_York:20261115T180000
DTSTAMP:20260421T065942
CREATED:20260128T173903Z
LAST-MODIFIED:20260128T174920Z
UID:7566-1794747600-1794765600@rosemontofvirginia.com
SUMMARY:Wine Club Pick Up Party
DESCRIPTION:Calling all Wine & Barrel Club Members!  Our next Wine Club Pick-Up Party will be Sunday\, November 15th\, from 1 – 6pm.  We’ll taste the three wines in the Mixed Wine Club Shipment and have live music from Michelle Dobson & Chap Cash! \nAn RSVP is required for this event\, as we are limited to the capacity of the building.  To RSVP\, please email Kyndal at kyndal@rosemontofvirginia.com. \nThis event is floating from 1pm – 6pm and all seating is first-come-first-served.
URL:https://rosemontofvirginia.com/event/wine-club-pick-up-party-13/
LOCATION:Rosemont\, 1050 Blackridge Road\, LaCrosse\, VA\, 23950\, United States
CATEGORIES:Closings
ATTACH;FMTTYPE=image/jpeg:https://rosemontofvirginia.com/wp-content/uploads/2025/06/rosemont-june-visit-06-08-2022-05-2.jpg
END:VEVENT
END:VCALENDAR