BEGIN:VCALENDAR
VERSION:2.0
PRODID:-//Rosemont of Virginia - ECPv6.15.20//NONSGML v1.0//EN
CALSCALE:GREGORIAN
METHOD:PUBLISH
X-ORIGINAL-URL:https://rosemontofvirginia.com
X-WR-CALDESC:Events for Rosemont of Virginia
REFRESH-INTERVAL;VALUE=DURATION:PT1H
X-Robots-Tag:noindex
X-PUBLISHED-TTL:PT1H
BEGIN:VTIMEZONE
TZID:America/New_York
BEGIN:DAYLIGHT
TZOFFSETFROM:-0500
TZOFFSETTO:-0400
TZNAME:EDT
DTSTART:20230312T070000
END:DAYLIGHT
BEGIN:STANDARD
TZOFFSETFROM:-0400
TZOFFSETTO:-0500
TZNAME:EST
DTSTART:20231105T060000
END:STANDARD
BEGIN:DAYLIGHT
TZOFFSETFROM:-0500
TZOFFSETTO:-0400
TZNAME:EDT
DTSTART:20240310T070000
END:DAYLIGHT
BEGIN:STANDARD
TZOFFSETFROM:-0400
TZOFFSETTO:-0500
TZNAME:EST
DTSTART:20241103T060000
END:STANDARD
BEGIN:DAYLIGHT
TZOFFSETFROM:-0500
TZOFFSETTO:-0400
TZNAME:EDT
DTSTART:20250309T070000
END:DAYLIGHT
BEGIN:STANDARD
TZOFFSETFROM:-0400
TZOFFSETTO:-0500
TZNAME:EST
DTSTART:20251102T060000
END:STANDARD
END:VTIMEZONE
BEGIN:VEVENT
DTSTART;TZID=America/New_York:20240519T130000
DTEND;TZID=America/New_York:20240519T180000
DTSTAMP:20260422T054734
CREATED:20240416T170300Z
LAST-MODIFIED:20240416T170300Z
UID:6355-1716123600-1716141600@rosemontofvirginia.com
SUMMARY:Wine Club Pick-Up Party
DESCRIPTION:Calling all Wine & Barrel Club Members!  Our next Wine Club Pick-Up Party will be Sunday\, May 19th\, from 1 – 6pm.  We’ll taste the three wines in the Mixed Wine Club Shipment\, have live music from Kevin Smiley and Sticky Rice will be selling their amazing food! \nAn RSVP is required for this event\, as we are limited to the capacity of the building.  To RSVP\, please email Kyndal at kyndal@rosemontofvirginia.com. \nThis event is floating from 1pm – 6pm and all seating is first-come-first-served.
URL:https://rosemontofvirginia.com/event/wine-club-pick-up-party-5/
LOCATION:Rosemont\, 1050 Blackridge Road\, LaCrosse\, VA\, 23950\, United States
CATEGORIES:Closings,Club Member Event
ATTACH;FMTTYPE=image/jpeg:https://rosemontofvirginia.com/wp-content/uploads/2022/11/rosemont-building-700x467-1.jpeg
END:VEVENT
BEGIN:VEVENT
DTSTART;TZID=America/New_York:20240522T190000
DTEND;TZID=America/New_York:20240522T200000
DTSTAMP:20260422T054734
CREATED:20240424T152809Z
LAST-MODIFIED:20240424T152809Z
UID:6368-1716404400-1716408000@rosemontofvirginia.com
SUMMARY:Winemaker Wednesday - May's Wine Club Wines
DESCRIPTION:1858 and Barrel Club Members\, please join us for our next Winemaker Wednesday\, where we will focus on the three wines included in May’s Wine Club Allocation – 2022 Block A\, 2021 Cabernet Franc\, and 2021 Merlot! \n  \nThese live sessions will now be held via ZOOM\, instead of Facebook Live\, and as soon as we have the links for the month\, we’ll be sending those out to our entire Club list. Each month we’ll discuss wine club selections\, and new wines\, or we’ll offer a special bundle featuring something fun\, like a library wine! \nMark your calendars for the rest of the year: \n·    June 12th – Cabernet Francs\n·    July 24th – Graciano & Chardonel Reserve\n·    August 21st – August’s Club Selections\n·    September 18th – TBD\n·    October 16th – Petit Verdot\n·    November 13th – Sparkling Wines\n·    December 11th – November’s Club Selections
URL:https://rosemontofvirginia.com/event/winemaker-wednesday-mays-wine-club-wines/
LOCATION:VA
CATEGORIES:Club Member Event,Event
ATTACH;FMTTYPE=image/jpeg:https://rosemontofvirginia.com/wp-content/uploads/2024/04/Aubrey-and-Justin-e1713972339664.jpg
END:VEVENT
END:VCALENDAR