BEGIN:VCALENDAR
VERSION:2.0
PRODID:-//Rosemont of Virginia - ECPv6.15.20//NONSGML v1.0//EN
CALSCALE:GREGORIAN
METHOD:PUBLISH
X-ORIGINAL-URL:https://rosemontofvirginia.com
X-WR-CALDESC:Events for Rosemont of Virginia
REFRESH-INTERVAL;VALUE=DURATION:PT1H
X-Robots-Tag:noindex
X-PUBLISHED-TTL:PT1H
BEGIN:VTIMEZONE
TZID:America/New_York
BEGIN:DAYLIGHT
TZOFFSETFROM:-0500
TZOFFSETTO:-0400
TZNAME:EDT
DTSTART:20230312T070000
END:DAYLIGHT
BEGIN:STANDARD
TZOFFSETFROM:-0400
TZOFFSETTO:-0500
TZNAME:EST
DTSTART:20231105T060000
END:STANDARD
BEGIN:DAYLIGHT
TZOFFSETFROM:-0500
TZOFFSETTO:-0400
TZNAME:EDT
DTSTART:20240310T070000
END:DAYLIGHT
BEGIN:STANDARD
TZOFFSETFROM:-0400
TZOFFSETTO:-0500
TZNAME:EST
DTSTART:20241103T060000
END:STANDARD
BEGIN:DAYLIGHT
TZOFFSETFROM:-0500
TZOFFSETTO:-0400
TZNAME:EDT
DTSTART:20250309T070000
END:DAYLIGHT
BEGIN:STANDARD
TZOFFSETFROM:-0400
TZOFFSETTO:-0500
TZNAME:EST
DTSTART:20251102T060000
END:STANDARD
END:VTIMEZONE
BEGIN:VEVENT
DTSTART;TZID=America/New_York:20241023T190000
DTEND;TZID=America/New_York:20241023T200000
DTSTAMP:20260421T224241
CREATED:20240917T135911Z
LAST-MODIFIED:20241014T150943Z
UID:6652-1729710000-1729713600@rosemontofvirginia.com
SUMMARY:Winemaker Wednesday - Petit Verdot & Tannat
DESCRIPTION:1858 and Barrel Club Members\, please join us for our next Winemaker Wednesday\, where we will be talking about our latest release in the Teaghlach Series – the 2022 Petit Verdot!  This wine will make its debut at the Harvest Festival on Saturday\, October 19th\, but we are offering it to our Winemaker Wednesday participants early! And\, since it’s more fun to talk about two wines instead of one\, we are also throwing in a bottle of our 2022 Tannat\, which won’t be released until April 2025! This is the ONLY way to get a bottle of the Tannat and Petit Verdot early\, so be sure to buy them before October 23rd! \nBUY BUNDLE HERE\nThese live sessions will now be held via ZOOM\, so please check your emails for the link to this session. We will be sending out the emails the day prior.  Each month we’ll discuss wine club selections\, and new wines\, or we’ll offer a special bundle featuring something fun\, like a library wine! \nMark your calendars for the rest of the year: \n·    November 20th – November’s Club Selections\n·    December 11th – Sparkling Wines
URL:https://rosemontofvirginia.com/event/winemaker-wednesday-petit-verdot/
LOCATION:VA
CATEGORIES:Club Member Event
ATTACH;FMTTYPE=image/jpeg:https://rosemontofvirginia.com/wp-content/uploads/2024/04/Aubrey-and-Justin-e1713972339664.jpg
END:VEVENT
END:VCALENDAR