BEGIN:VCALENDAR
VERSION:2.0
PRODID:-//Rosemont of Virginia - ECPv6.15.20//NONSGML v1.0//EN
CALSCALE:GREGORIAN
METHOD:PUBLISH
X-WR-CALNAME:Rosemont of Virginia
X-ORIGINAL-URL:https://rosemontofvirginia.com
X-WR-CALDESC:Events for Rosemont of Virginia
REFRESH-INTERVAL;VALUE=DURATION:PT1H
X-Robots-Tag:noindex
X-PUBLISHED-TTL:PT1H
BEGIN:VTIMEZONE
TZID:America/New_York
BEGIN:DAYLIGHT
TZOFFSETFROM:-0500
TZOFFSETTO:-0400
TZNAME:EDT
DTSTART:20240310T070000
END:DAYLIGHT
BEGIN:STANDARD
TZOFFSETFROM:-0400
TZOFFSETTO:-0500
TZNAME:EST
DTSTART:20241103T060000
END:STANDARD
BEGIN:DAYLIGHT
TZOFFSETFROM:-0500
TZOFFSETTO:-0400
TZNAME:EDT
DTSTART:20250309T070000
END:DAYLIGHT
BEGIN:STANDARD
TZOFFSETFROM:-0400
TZOFFSETTO:-0500
TZNAME:EST
DTSTART:20251102T060000
END:STANDARD
BEGIN:DAYLIGHT
TZOFFSETFROM:-0500
TZOFFSETTO:-0400
TZNAME:EDT
DTSTART:20260308T070000
END:DAYLIGHT
BEGIN:STANDARD
TZOFFSETFROM:-0400
TZOFFSETTO:-0500
TZNAME:EST
DTSTART:20261101T060000
END:STANDARD
END:VTIMEZONE
BEGIN:VEVENT
DTSTART;TZID=America/New_York:20250321T180000
DTEND;TZID=America/New_York:20250321T210000
DTSTAMP:20260421T150029
CREATED:20250206T182117Z
LAST-MODIFIED:20250217T170713Z
UID:6890-1742580000-1742590800@rosemontofvirginia.com
SUMMARY:Kilravock Blending Party - Friday Night
DESCRIPTION:Join us Friday\, March 21st\, or Saturday\, March 22nd as we walk through the process of crafting our signature red blend\, Kilravock! Taste the different varieties individually\, try your hand at your best blend\, and then finally taste what we will be putting into the bottle this coming May.\n\n\nThis special event is limited to Rosemont Barrel Club & 1858 Wine Club Members and friends only.  Tickets are $60 per person and go on sale February 17th.  Light refreshments will be served.
URL:https://rosemontofvirginia.com/event/kilravock-blending-party-2/
LOCATION:Rosemont\, 1050 Blackridge Road\, LaCrosse\, VA\, 23950\, United States
CATEGORIES:Club Member Event,Event
ATTACH;FMTTYPE=image/jpeg:https://rosemontofvirginia.com/wp-content/uploads/2023/02/Blending_1674413332.jpg
END:VEVENT
BEGIN:VEVENT
DTSTART;TZID=America/New_York:20250322T180000
DTEND;TZID=America/New_York:20250322T210000
DTSTAMP:20260421T150029
CREATED:20250217T170901Z
LAST-MODIFIED:20250305T213201Z
UID:6903-1742666400-1742677200@rosemontofvirginia.com
SUMMARY:Kilravock Blending Party - Saturday Night
DESCRIPTION:Join us Friday\, March 21st\, or Saturday\, March 22nd as we walk through the process of crafting our signature red blend\, Kilravock! Taste the different varieties individually\, try your hand at your best blend\, and then finally taste what we will be putting into the bottle this coming May.\n\n\nThis special event is limited to Rosemont Barrel Club & 1858 Wine Club Members and friends only.  Tickets are $60 per person and go on sale February 17th.  Light refreshments will be served.
URL:https://rosemontofvirginia.com/event/kilravock-blending-party-saturday-night/
LOCATION:Rosemont\, 1050 Blackridge Road\, LaCrosse\, VA\, 23950\, United States
CATEGORIES:Club Member Event,Event
ATTACH;FMTTYPE=image/jpeg:https://rosemontofvirginia.com/wp-content/uploads/2023/02/Blending_1674413332.jpg
END:VEVENT
END:VCALENDAR