BEGIN:VCALENDAR
VERSION:2.0
PRODID:-//Rosemont of Virginia - ECPv6.15.20//NONSGML v1.0//EN
CALSCALE:GREGORIAN
METHOD:PUBLISH
X-ORIGINAL-URL:https://rosemontofvirginia.com
X-WR-CALDESC:Events for Rosemont of Virginia
REFRESH-INTERVAL;VALUE=DURATION:PT1H
X-Robots-Tag:noindex
X-PUBLISHED-TTL:PT1H
BEGIN:VTIMEZONE
TZID:America/New_York
BEGIN:DAYLIGHT
TZOFFSETFROM:-0500
TZOFFSETTO:-0400
TZNAME:EDT
DTSTART:20230312T070000
END:DAYLIGHT
BEGIN:STANDARD
TZOFFSETFROM:-0400
TZOFFSETTO:-0500
TZNAME:EST
DTSTART:20231105T060000
END:STANDARD
BEGIN:DAYLIGHT
TZOFFSETFROM:-0500
TZOFFSETTO:-0400
TZNAME:EDT
DTSTART:20240310T070000
END:DAYLIGHT
BEGIN:STANDARD
TZOFFSETFROM:-0400
TZOFFSETTO:-0500
TZNAME:EST
DTSTART:20241103T060000
END:STANDARD
BEGIN:DAYLIGHT
TZOFFSETFROM:-0500
TZOFFSETTO:-0400
TZNAME:EDT
DTSTART:20250309T070000
END:DAYLIGHT
BEGIN:STANDARD
TZOFFSETFROM:-0400
TZOFFSETTO:-0500
TZNAME:EST
DTSTART:20251102T060000
END:STANDARD
END:VTIMEZONE
BEGIN:VEVENT
DTSTART;TZID=America/New_York:20241120T190000
DTEND;TZID=America/New_York:20241120T200000
DTSTAMP:20260421T224413
CREATED:20240917T140804Z
LAST-MODIFIED:20240917T141056Z
UID:6654-1732129200-1732132800@rosemontofvirginia.com
SUMMARY:Winemaker Wednesday - November's Wine Club Selections
DESCRIPTION:1858 and Barrel Club Members\, please join us for our next Winemaker Wednesday\, where we will be talking about our November Wine Club selections – the 2022 v. 1858\, Virginia White\, and 2023 Rose’!  These are perfect wines for the holiday season\, and we’ll talk about what to pair with each as well.  For members who have their wines shipped to them\, most of you should receive your wines before our session! \n  \nThese live sessions will now be held via ZOOM\, so please check your emails for the link to this session. We will be sending out the emails the day prior.  Each month we’ll discuss wine club selections\, and new wines\, or we’ll offer a special bundle featuring something fun\, like a library wine! \nMark your calendars for the rest of the year: \n·    December 11th – Sparkling Wines
URL:https://rosemontofvirginia.com/event/winemaker-wednesday-novembers-wine-club-selections/
LOCATION:VA
CATEGORIES:Club Member Event
ATTACH;FMTTYPE=image/jpeg:https://rosemontofvirginia.com/wp-content/uploads/2024/04/Aubrey-and-Justin-e1713972339664.jpg
END:VEVENT
END:VCALENDAR