BEGIN:VCALENDAR
VERSION:2.0
PRODID:-//Rosemont of Virginia - ECPv6.15.20//NONSGML v1.0//EN
CALSCALE:GREGORIAN
METHOD:PUBLISH
X-WR-CALNAME:Rosemont of Virginia
X-ORIGINAL-URL:https://rosemontofvirginia.com
X-WR-CALDESC:Events for Rosemont of Virginia
REFRESH-INTERVAL;VALUE=DURATION:PT1H
X-Robots-Tag:noindex
X-PUBLISHED-TTL:PT1H
BEGIN:VTIMEZONE
TZID:America/New_York
BEGIN:DAYLIGHT
TZOFFSETFROM:-0500
TZOFFSETTO:-0400
TZNAME:EDT
DTSTART:20220313T070000
END:DAYLIGHT
BEGIN:STANDARD
TZOFFSETFROM:-0400
TZOFFSETTO:-0500
TZNAME:EST
DTSTART:20221106T060000
END:STANDARD
BEGIN:DAYLIGHT
TZOFFSETFROM:-0500
TZOFFSETTO:-0400
TZNAME:EDT
DTSTART:20230312T070000
END:DAYLIGHT
BEGIN:STANDARD
TZOFFSETFROM:-0400
TZOFFSETTO:-0500
TZNAME:EST
DTSTART:20231105T060000
END:STANDARD
BEGIN:DAYLIGHT
TZOFFSETFROM:-0500
TZOFFSETTO:-0400
TZNAME:EDT
DTSTART:20240310T070000
END:DAYLIGHT
BEGIN:STANDARD
TZOFFSETFROM:-0400
TZOFFSETTO:-0500
TZNAME:EST
DTSTART:20241103T060000
END:STANDARD
END:VTIMEZONE
BEGIN:VEVENT
DTSTART;TZID=America/New_York:20230409T130000
DTEND;TZID=America/New_York:20230409T180000
DTSTAMP:20260423T114307
CREATED:20230302T204941Z
LAST-MODIFIED:20230302T211516Z
UID:5585-1681045200-1681063200@rosemontofvirginia.com
SUMMARY:Winery Closed for Easter
DESCRIPTION:The Winery will be closed on Sunday\, April 9th\, so that we may celebrate Easter with our family and friends.  We hope you have a Happy Easter!
URL:https://rosemontofvirginia.com/event/winery-closed-for-easter/
LOCATION:Rosemont\, 1050 Blackridge Road\, LaCrosse\, VA\, 23950\, United States
CATEGORIES:Closings,Holidays
ATTACH;FMTTYPE=image/jpeg:https://rosemontofvirginia.com/wp-content/uploads/2022/06/pic-winery-sunset-1200.jpg
END:VEVENT
END:VCALENDAR