BEGIN:VCALENDAR
VERSION:2.0
PRODID:-//Rosemont of Virginia - ECPv6.15.20//NONSGML v1.0//EN
CALSCALE:GREGORIAN
METHOD:PUBLISH
X-ORIGINAL-URL:https://rosemontofvirginia.com
X-WR-CALDESC:Events for Rosemont of Virginia
REFRESH-INTERVAL;VALUE=DURATION:PT1H
X-Robots-Tag:noindex
X-PUBLISHED-TTL:PT1H
BEGIN:VTIMEZONE
TZID:America/New_York
BEGIN:DAYLIGHT
TZOFFSETFROM:-0500
TZOFFSETTO:-0400
TZNAME:EDT
DTSTART:20220313T070000
END:DAYLIGHT
BEGIN:STANDARD
TZOFFSETFROM:-0400
TZOFFSETTO:-0500
TZNAME:EST
DTSTART:20221106T060000
END:STANDARD
BEGIN:DAYLIGHT
TZOFFSETFROM:-0500
TZOFFSETTO:-0400
TZNAME:EDT
DTSTART:20230312T070000
END:DAYLIGHT
BEGIN:STANDARD
TZOFFSETFROM:-0400
TZOFFSETTO:-0500
TZNAME:EST
DTSTART:20231105T060000
END:STANDARD
BEGIN:DAYLIGHT
TZOFFSETFROM:-0500
TZOFFSETTO:-0400
TZNAME:EDT
DTSTART:20240310T070000
END:DAYLIGHT
BEGIN:STANDARD
TZOFFSETFROM:-0400
TZOFFSETTO:-0500
TZNAME:EST
DTSTART:20241103T060000
END:STANDARD
END:VTIMEZONE
BEGIN:VEVENT
DTSTART;TZID=America/New_York:20231123T110000
DTEND;TZID=America/New_York:20231123T180000
DTSTAMP:20260423T012046
CREATED:20231010T182421Z
LAST-MODIFIED:20231010T203420Z
UID:6004-1700737200-1700762400@rosemontofvirginia.com
SUMMARY:Winery Closed Thanksgiving Day
DESCRIPTION:The Winery will be closed for business on Thursday\, November 23rd\, for the Thanksgiving holiday. \nWe are open regular business hours the remainder of the week:  11:00am – 6:00pm from Monday – Wednesday\, Friday & Saturday\, and then from 1:00pm – 6:00pm on Sunday. \nPlease note that the last flight of the day begins 30 minutes prior to closing.  We hope to see you then and please have a happy and safe Thanksgiving!
URL:https://rosemontofvirginia.com/event/winery-closed-thanksgiving-day/
LOCATION:Rosemont\, 1050 Blackridge Road\, LaCrosse\, VA\, 23950\, United States
CATEGORIES:Closings,Holidays
ATTACH;FMTTYPE=image/jpeg:https://rosemontofvirginia.com/wp-content/uploads/2022/06/pic-winery-sunset-1200.jpg
END:VEVENT
END:VCALENDAR