BEGIN:VCALENDAR
VERSION:2.0
PRODID:-//Rosemont of Virginia - ECPv6.15.20//NONSGML v1.0//EN
CALSCALE:GREGORIAN
METHOD:PUBLISH
X-ORIGINAL-URL:https://rosemontofvirginia.com
X-WR-CALDESC:Events for Rosemont of Virginia
REFRESH-INTERVAL;VALUE=DURATION:PT1H
X-Robots-Tag:noindex
X-PUBLISHED-TTL:PT1H
BEGIN:VTIMEZONE
TZID:America/New_York
BEGIN:DAYLIGHT
TZOFFSETFROM:-0500
TZOFFSETTO:-0400
TZNAME:EDT
DTSTART:20220313T070000
END:DAYLIGHT
BEGIN:STANDARD
TZOFFSETFROM:-0400
TZOFFSETTO:-0500
TZNAME:EST
DTSTART:20221106T060000
END:STANDARD
BEGIN:DAYLIGHT
TZOFFSETFROM:-0500
TZOFFSETTO:-0400
TZNAME:EDT
DTSTART:20230312T070000
END:DAYLIGHT
BEGIN:STANDARD
TZOFFSETFROM:-0400
TZOFFSETTO:-0500
TZNAME:EST
DTSTART:20231105T060000
END:STANDARD
BEGIN:DAYLIGHT
TZOFFSETFROM:-0500
TZOFFSETTO:-0400
TZNAME:EDT
DTSTART:20240310T070000
END:DAYLIGHT
BEGIN:STANDARD
TZOFFSETFROM:-0400
TZOFFSETTO:-0500
TZNAME:EST
DTSTART:20241103T060000
END:STANDARD
END:VTIMEZONE
BEGIN:VEVENT
DTSTART;TZID=America/New_York:20231210T140000
DTEND;TZID=America/New_York:20231210T153000
DTSTAMP:20260422T234742
CREATED:20231117T160807Z
LAST-MODIFIED:20231117T160931Z
UID:6030-1702216800-1702222200@rosemontofvirginia.com
SUMMARY:Holiday Wine & Dessert Pairing w/Jenny Cakes at the Lake
DESCRIPTION:Get ready for the Holidays!  Join us along with Jenny from Jenny Cakes at the Lake as she walks us through a wine and dessert pairing!  This class is $50 and includes a curated flight of four Rosemont wines paired with tasty desserts from Jenny Cakes at the Lake.  At the end of the class\, you’ll have an opportunity to pre-order your Holiday desserts from Jenny Cakes as well as your Rosemont Wines for the Holidays! \nPre-registration and payment is required and can be done by calling the Winery at 434-636-9463.
URL:https://rosemontofvirginia.com/event/holiday-wine-dessert-pairing-w-jenny-cakes-at-the-lake/
LOCATION:Rosemont\, 1050 Blackridge Road\, LaCrosse\, VA\, 23950\, United States
CATEGORIES:Event,Food,Holidays
ATTACH;FMTTYPE=image/jpeg:https://rosemontofvirginia.com/wp-content/uploads/2023/11/JCATL.jpg
END:VEVENT
END:VCALENDAR