BEGIN:VCALENDAR
VERSION:2.0
PRODID:-//Rosemont of Virginia - ECPv6.15.20//NONSGML v1.0//EN
CALSCALE:GREGORIAN
METHOD:PUBLISH
X-ORIGINAL-URL:https://rosemontofvirginia.com
X-WR-CALDESC:Events for Rosemont of Virginia
REFRESH-INTERVAL;VALUE=DURATION:PT1H
X-Robots-Tag:noindex
X-PUBLISHED-TTL:PT1H
BEGIN:VTIMEZONE
TZID:America/New_York
BEGIN:DAYLIGHT
TZOFFSETFROM:-0500
TZOFFSETTO:-0400
TZNAME:EDT
DTSTART:20240310T070000
END:DAYLIGHT
BEGIN:STANDARD
TZOFFSETFROM:-0400
TZOFFSETTO:-0500
TZNAME:EST
DTSTART:20241103T060000
END:STANDARD
BEGIN:DAYLIGHT
TZOFFSETFROM:-0500
TZOFFSETTO:-0400
TZNAME:EDT
DTSTART:20250309T070000
END:DAYLIGHT
BEGIN:STANDARD
TZOFFSETFROM:-0400
TZOFFSETTO:-0500
TZNAME:EST
DTSTART:20251102T060000
END:STANDARD
BEGIN:DAYLIGHT
TZOFFSETFROM:-0500
TZOFFSETTO:-0400
TZNAME:EDT
DTSTART:20260308T070000
END:DAYLIGHT
BEGIN:STANDARD
TZOFFSETFROM:-0400
TZOFFSETTO:-0500
TZNAME:EST
DTSTART:20261101T060000
END:STANDARD
BEGIN:DAYLIGHT
TZOFFSETFROM:-0500
TZOFFSETTO:-0400
TZNAME:EDT
DTSTART:20270314T070000
END:DAYLIGHT
BEGIN:STANDARD
TZOFFSETFROM:-0400
TZOFFSETTO:-0500
TZNAME:EST
DTSTART:20271107T060000
END:STANDARD
END:VTIMEZONE
BEGIN:VEVENT
DTSTART;TZID=America/New_York:20251224T110000
DTEND;TZID=America/New_York:20251225T180000
DTSTAMP:20260423T200653
CREATED:20251027T152729Z
LAST-MODIFIED:20251027T152729Z
UID:7496-1766574000-1766685600@rosemontofvirginia.com
SUMMARY:Christmas Eve & Christmas Day Hours
DESCRIPTION:We will be closing at 2pm on Wednesday\, December 24th\, for Christmas Eve and will be closed on Thursday\, December 25th\, for Christmas Day\, to spend time with our family and friends.  We will reopen Friday\, December 26th\, for normal business hours.
URL:https://rosemontofvirginia.com/event/christmas-eve-christmas-day-hours-2/
LOCATION:Rosemont\, 1050 Blackridge Road\, LaCrosse\, VA\, 23950\, United States
CATEGORIES:Closings,Holidays
ATTACH;FMTTYPE=image/jpeg:https://rosemontofvirginia.com/wp-content/uploads/2022/04/pic-11232020-building-1024.jpg
END:VEVENT
BEGIN:VEVENT
DTSTART;TZID=America/New_York:20260509T110000
DTEND;TZID=America/New_York:20260509T180000
DTSTAMP:20260423T200653
CREATED:20260310T201919Z
LAST-MODIFIED:20260401T184944Z
UID:7617-1778324400-1778349600@rosemontofvirginia.com
SUMMARY:Mother's Day Weekend at Rosemont
DESCRIPTION:Come celebrate Mom and the other important women in your life at Rosmeont Winery!  On Saturday\, May 9th\, bring Mom\, the entire family\, or your friends\, and make it a month to remember. \nWe’ll be joined by Steady Porch Farms\, who will be selling their beautiful\, locally grown flowers by the bouquet\,  Paperback Parlor\, a pop-up book stand from RVA selling a curated selection of new and used books\, and The Kitchen Table who will be selling their fresh charcuterie boxes in a variety of sizes\, as well as their homemade dips and chicken salad.
URL:https://rosemontofvirginia.com/event/mothers-day-at-rosemont/
LOCATION:Rosemont\, 1050 Blackridge Road\, LaCrosse\, VA\, 23950\, United States
CATEGORIES:Event,Food,Holidays
ATTACH;FMTTYPE=image/jpeg:https://rosemontofvirginia.com/wp-content/uploads/2022/04/header-vineyard-sky-1920.jpg
END:VEVENT
END:VCALENDAR