BEGIN:VCALENDAR
VERSION:2.0
PRODID:-//Rosemont of Virginia - ECPv6.15.20//NONSGML v1.0//EN
CALSCALE:GREGORIAN
METHOD:PUBLISH
X-ORIGINAL-URL:https://rosemontofvirginia.com
X-WR-CALDESC:Events for Rosemont of Virginia
REFRESH-INTERVAL;VALUE=DURATION:PT1H
X-Robots-Tag:noindex
X-PUBLISHED-TTL:PT1H
BEGIN:VTIMEZONE
TZID:America/New_York
BEGIN:DAYLIGHT
TZOFFSETFROM:-0500
TZOFFSETTO:-0400
TZNAME:EDT
DTSTART:20220313T070000
END:DAYLIGHT
BEGIN:STANDARD
TZOFFSETFROM:-0400
TZOFFSETTO:-0500
TZNAME:EST
DTSTART:20221106T060000
END:STANDARD
BEGIN:DAYLIGHT
TZOFFSETFROM:-0500
TZOFFSETTO:-0400
TZNAME:EDT
DTSTART:20230312T070000
END:DAYLIGHT
BEGIN:STANDARD
TZOFFSETFROM:-0400
TZOFFSETTO:-0500
TZNAME:EST
DTSTART:20231105T060000
END:STANDARD
BEGIN:DAYLIGHT
TZOFFSETFROM:-0500
TZOFFSETTO:-0400
TZNAME:EDT
DTSTART:20240310T070000
END:DAYLIGHT
BEGIN:STANDARD
TZOFFSETFROM:-0400
TZOFFSETTO:-0500
TZNAME:EST
DTSTART:20241103T060000
END:STANDARD
END:VTIMEZONE
BEGIN:VEVENT
DTSTART;TZID=America/New_York:20230527T170000
DTEND;TZID=America/New_York:20230527T210000
DTSTAMP:20260423T062922
CREATED:20230315T204546Z
LAST-MODIFIED:20230527T204531Z
UID:5616-1685206800-1685221200@rosemontofvirginia.com
SUMMARY:Summer Concert Series with Klaxton Brown - CANCELED
DESCRIPTION:**This event has been canceled due to severe weather.  If you purchased tickets to this event please check your email for instructions on how to obtain vouchers to future concerts.\nSaturday\, May 27th\n5:00 PM – 9:00 PM\nKlaxton Brown\n\nCome help us welcome Summer and Klaxton Brown back to the Rosemont stage!  Klaxton Brown is a diversified group of entertainers that play a variety of music ranging from Jazz\, R&B\, Funk\, Gospel\, and Pop! \nBring your lawn chairs\, blankets\, friends\, and family\, and join us for a fantastic night of music\, wine\, food\, and fun!  We’ll be welcoming back Off the Chain and The Cottage Barn who will be serving up some delicious food! \nAs always\, you are also welcome to bring your own picnic as well – just please no outside alcohol as our ABC Permit does not allow for it.  As before\, we will be joined by Buggs Island Brewing who will have some of their amazing craft beers on tap! \n**PLEASE NOTE:  If you are bringing a tent or canopy to sit under during the event\, ALL tents must be located on the upper level of the lawn\, between the rock wall and the vines.  No tents are allowed on the middle and lower levels. Tents may be set up AFTER 11 AM the day of the event; any tents set up prior to that time will be dismantled by Rosemont. \nClick here for a list of Frequently Asked Questions  \nClick Here for Tickets!\nPre-sale tickets will be sold online until 6pm on Thursday\, May 25th.  We will resume selling tickets at 4pm at the concert gate on May 27th. \n*Club Members – Remember to log in to your Club account to receive Wine Club pricing!
URL:https://rosemontofvirginia.com/event/summer-concert-series-with-klaxton-brown/
LOCATION:Rosemont\, 1050 Blackridge Road\, LaCrosse\, VA\, 23950\, United States
CATEGORIES:Event,Food,Music
ATTACH;FMTTYPE=image/jpeg:https://rosemontofvirginia.com/wp-content/uploads/2023/03/Klaxton-Brown.jpg
END:VEVENT
END:VCALENDAR