BEGIN:VCALENDAR
VERSION:2.0
PRODID:-//Rosemont of Virginia - ECPv6.15.20//NONSGML v1.0//EN
CALSCALE:GREGORIAN
METHOD:PUBLISH
X-ORIGINAL-URL:https://rosemontofvirginia.com
X-WR-CALDESC:Events for Rosemont of Virginia
REFRESH-INTERVAL;VALUE=DURATION:PT1H
X-Robots-Tag:noindex
X-PUBLISHED-TTL:PT1H
BEGIN:VTIMEZONE
TZID:America/New_York
BEGIN:DAYLIGHT
TZOFFSETFROM:-0500
TZOFFSETTO:-0400
TZNAME:EDT
DTSTART:20210314T070000
END:DAYLIGHT
BEGIN:STANDARD
TZOFFSETFROM:-0400
TZOFFSETTO:-0500
TZNAME:EST
DTSTART:20211107T060000
END:STANDARD
BEGIN:DAYLIGHT
TZOFFSETFROM:-0500
TZOFFSETTO:-0400
TZNAME:EDT
DTSTART:20220313T070000
END:DAYLIGHT
BEGIN:STANDARD
TZOFFSETFROM:-0400
TZOFFSETTO:-0500
TZNAME:EST
DTSTART:20221106T060000
END:STANDARD
BEGIN:DAYLIGHT
TZOFFSETFROM:-0500
TZOFFSETTO:-0400
TZNAME:EDT
DTSTART:20230312T070000
END:DAYLIGHT
BEGIN:STANDARD
TZOFFSETFROM:-0400
TZOFFSETTO:-0500
TZNAME:EST
DTSTART:20231105T060000
END:STANDARD
END:VTIMEZONE
BEGIN:VEVENT
DTSTART;TZID=America/New_York:20220903T170000
DTEND;TZID=America/New_York:20220903T210000
DTSTAMP:20260423T191451
CREATED:20220803T122011Z
LAST-MODIFIED:20220803T122405Z
UID:4934-1662224400-1662238800@rosemontofvirginia.com
SUMMARY:Summer Concert with JB & The Get Down Browns
DESCRIPTION:Saturday\, September 3rd\n5:00 PM – 9:00 PM\nJB & The Get Down Browns\n\nCome help us close out the Summer and help us welcome JB & The Get Down Browns back to the Rosemont stage!  JB & The Get Down browns are a diversified group of entertainers that play a variety of music ranging from Rock\, Top 40s\, and Beach Music! \nBring your lawn chairs\, blankets\, friends and family\, and join us for a fantastic night of music\, wine\, food\, and fun!  We’ll be welcoming back Off the Chain and The Cottage Barn who will be serving up some delicious food! \nAs always\, you are also welcome to bring your own picnic as well – just please no outside alcohol as our ABC Permit does not allow for it.  As before\, we will be joined by Buggs Island Brewing who will have some of their amazing craft beers on tap! \n**PLEASE NOTE:  If you are bringing a tent or canopy to sit under during the event\, ALL tents must be located on the upper level of the lawn\, between the rock wall and the vines.  No tents are allowed on the middle and lower levels. Tents may be set up AFTER 11 AM the day of the event; any tents set up prior to that time will be dismantled by Rosemont. \n  \nTicket Prices:\n All ticket sales are final – no refunds will be made available.  Show is rain or shine! \nGeneral Admission (21+) – $20\nIncludes concert admission and a souvenir glass.\nClub Members – $15\nIncludes concert admission and a souvenir glass.\nChild (Ages 6 – 20) – $5\nIncludes concert admission.\nChildren 5 and under are FREE!\n  \nClick Here To Purchase Tickets!
URL:https://rosemontofvirginia.com/event/summer-concert-with-jb-the-get-down-browns/
LOCATION:Rosemont\, 1050 Blackridge Road\, LaCrosse\, VA\, 23950\, United States
CATEGORIES:Food,Music
ATTACH;FMTTYPE=image/jpeg:https://rosemontofvirginia.com/wp-content/uploads/2022/08/JB-the-Get-Down-Browns-e1659529157808.jpeg
END:VEVENT
END:VCALENDAR