BEGIN:VCALENDAR
VERSION:2.0
PRODID:-//Rosemont of Virginia - ECPv6.15.20//NONSGML v1.0//EN
CALSCALE:GREGORIAN
METHOD:PUBLISH
X-ORIGINAL-URL:https://rosemontofvirginia.com
X-WR-CALDESC:Events for Rosemont of Virginia
REFRESH-INTERVAL;VALUE=DURATION:PT1H
X-Robots-Tag:noindex
X-PUBLISHED-TTL:PT1H
BEGIN:VTIMEZONE
TZID:America/New_York
BEGIN:DAYLIGHT
TZOFFSETFROM:-0500
TZOFFSETTO:-0400
TZNAME:EDT
DTSTART:20230312T070000
END:DAYLIGHT
BEGIN:STANDARD
TZOFFSETFROM:-0400
TZOFFSETTO:-0500
TZNAME:EST
DTSTART:20231105T060000
END:STANDARD
BEGIN:DAYLIGHT
TZOFFSETFROM:-0500
TZOFFSETTO:-0400
TZNAME:EDT
DTSTART:20240310T070000
END:DAYLIGHT
BEGIN:STANDARD
TZOFFSETFROM:-0400
TZOFFSETTO:-0500
TZNAME:EST
DTSTART:20241103T060000
END:STANDARD
BEGIN:DAYLIGHT
TZOFFSETFROM:-0500
TZOFFSETTO:-0400
TZNAME:EDT
DTSTART:20250309T070000
END:DAYLIGHT
BEGIN:STANDARD
TZOFFSETFROM:-0400
TZOFFSETTO:-0500
TZNAME:EST
DTSTART:20251102T060000
END:STANDARD
END:VTIMEZONE
BEGIN:VEVENT
DTSTART;TZID=America/New_York:20241019T110000
DTEND;TZID=America/New_York:20241019T180000
DTSTAMP:20260422T020816
CREATED:20240731T165930Z
LAST-MODIFIED:20240912T144536Z
UID:6580-1729335600-1729360800@rosemontofvirginia.com
SUMMARY:15th Annual End of Harvest Festival
DESCRIPTION:Come help us celebrate the end of another successful harvest season!  It’s a day to kick back\, relax\, and enjoy the beautiful Fall weather and bounty of the vineyard. \nThere is no fee to attend – only a $15 tasting fee to enjoy wine for the day – Rosemont souvenir glass is included!  So bring the entire family and make a great afternoon of celebrating the end of harvest.  Here are just some of the activities that we’ll have available: \n\nGrape Stomp Competition @ 2:00 PM\nCome by early and sign up for the Grape Stomp Competition!  It is open to everyone so enter your name into the drawing for a chance to participate!  Put your name in at 11:00 AM and we will draw names starting at 2:00 pm.  Participating contestants will have the chance to win three great prizes!\n\nLive Music Starting @ 1:00 PM\nwith the West Street Band\n\n\nFood for Everyone All Day Long\nCooper’s Landing Inn and Traveler’s Tavern and A Taste of Texas will be here as well serving up their delicious food that many of you may be familiar with.  There are sure to be plenty of options available for everyone!\n\nActivities for the Entire Family!\nWe offer a variety of activities that the whole family can participate in – pumpkin painting and we’ll even have a great setup for a family photo opportunity\, so be sure to bring your camera!
URL:https://rosemontofvirginia.com/event/15th-annual-end-of-harvest-festival/
LOCATION:Rosemont\, 1050 Blackridge Road\, LaCrosse\, VA\, 23950\, United States
CATEGORIES:Event,Food,Music
ATTACH;FMTTYPE=image/jpeg:https://rosemontofvirginia.com/wp-content/uploads/2023/08/Feet-Stomping-2022.jpg
END:VEVENT
END:VCALENDAR