BEGIN:VCALENDAR
VERSION:2.0
PRODID:-//Rosemont of Virginia - ECPv6.15.20//NONSGML v1.0//EN
CALSCALE:GREGORIAN
METHOD:PUBLISH
X-WR-CALNAME:Rosemont of Virginia
X-ORIGINAL-URL:https://rosemontofvirginia.com
X-WR-CALDESC:Events for Rosemont of Virginia
REFRESH-INTERVAL;VALUE=DURATION:PT1H
X-Robots-Tag:noindex
X-PUBLISHED-TTL:PT1H
BEGIN:VTIMEZONE
TZID:America/New_York
BEGIN:DAYLIGHT
TZOFFSETFROM:-0500
TZOFFSETTO:-0400
TZNAME:EDT
DTSTART:20240310T070000
END:DAYLIGHT
BEGIN:STANDARD
TZOFFSETFROM:-0400
TZOFFSETTO:-0500
TZNAME:EST
DTSTART:20241103T060000
END:STANDARD
BEGIN:DAYLIGHT
TZOFFSETFROM:-0500
TZOFFSETTO:-0400
TZNAME:EDT
DTSTART:20250309T070000
END:DAYLIGHT
BEGIN:STANDARD
TZOFFSETFROM:-0400
TZOFFSETTO:-0500
TZNAME:EST
DTSTART:20251102T060000
END:STANDARD
BEGIN:DAYLIGHT
TZOFFSETFROM:-0500
TZOFFSETTO:-0400
TZNAME:EDT
DTSTART:20260308T070000
END:DAYLIGHT
BEGIN:STANDARD
TZOFFSETFROM:-0400
TZOFFSETTO:-0500
TZNAME:EST
DTSTART:20261101T060000
END:STANDARD
BEGIN:DAYLIGHT
TZOFFSETFROM:-0500
TZOFFSETTO:-0400
TZNAME:EDT
DTSTART:20270314T070000
END:DAYLIGHT
BEGIN:STANDARD
TZOFFSETFROM:-0400
TZOFFSETTO:-0500
TZNAME:EST
DTSTART:20271107T060000
END:STANDARD
END:VTIMEZONE
BEGIN:VEVENT
DTSTART;TZID=America/New_York:20250614T110000
DTEND;TZID=America/New_York:20250614T170000
DTSTAMP:20260423T075903
CREATED:20250205T173041Z
LAST-MODIFIED:20250528T204405Z
UID:6886-1749898800-1749920400@rosemontofvirginia.com
SUMMARY:15th Annual Wine & Art Festival
DESCRIPTION:Make plans to join us for the 15th Annual Rosemont Wine & Art Festival! \n\n\nThis is our biggest event of the year\, highlighting over 30 fine artists and exhibitors\, adding new talent year after year.  You’ll find art of all mediums\, including paintings\, photography\, pottery\, jewelry\, woodworking\, and more. \nGregory’s Grill and The Salty Cactus will be on-site serving their amazing food and Mark & Dora and Mama Bri Bri & The Stranger will be playing throughout the day! \n\n\nFeatured Artists for This Year Include:\n  \n \nGranite Creations – Dave Almond – Virginia Beach\, VA\nGranite Pieces \nGranite Creations has been in business since 2015 and has gained a strong following throughout Virginia\, North Carolina\, and DC Area.  They take recycled granite pieces and turn them into lazy susans\, cheese boards\, and trivets! \n\n  \n  \n\nLiteEmUp Bottles – Marlene Barbera – Raleigh\, NC\nHydro-Dipped Glass Bottles \nLiteEmUp Bottles started in 2017 and continues to grow and create new products!  Marlene upcycles discarded bottles and turns them into elegant\, functional art.  Reduce\, reuse\, and recycle! \n  \n\nDukie Barner – Henrico\, NC\nMixed Media Art \nDukie is currently an exhibiting artist in Rosemont Winery’s Art Gallery.  She is a member of the Halifax County Arts Council and was an art teacher for 22 years! \n  \nBirds By Danny B – Danny Blackwell – Washington\, NC – New Artist!\nPVC Bird Sculptures \nAfter retirement\, Danny needed something to fill the void.  He enjoys working with his hands\, and creating the PVC birds is an expression of him! \n  \n\nBaskets by Jeannie B – Jeannie Blackwell – Washington\, NC \nHandwoven Baskets \nAfter retirement\, Jeannie started making rope baskets and found that it connected her to other people. \n  \n  \nSteady Porch Farm – Naomi Boswell & Steve Wickenkamp – Chase City\, VA – New Artist!\nFresh Cut Flowers \nSteady Porch Farm is a specialty cut flower farm located outside of Chase City\, VA.  They use regenerative farming practices to produce beautiful\, fresh-cut flowers. \n  \n \nArte Blanche Fine Arts – Jennifer Bunting – Richmond\, VA – New Artist!\nCustom Glass Art \nArte Blanche is a woman-owned glass company that creates unique\, functional art using US-sourced materials.  Specializing in kiln-formed techniques\, including 3D glass waves\, custom lanterns\, and hand-built glass trees\, the company emphasizes creativity and environmental responsibility. \n\n  \n  \n\nPeculiar Pantry – Beth Callis – South Hill\,  VA \nArtisan Pecans \nBeth has always loved making food-related gifts for family and friends.  Peculiar Pantry is a small batch producer of snack foods founded in 2022. \n  \n  \nDay Three Bath & Body – Joy & Billy Davis – Mechanicsville\, VA – New Artist! \nHandmade Skin Care \nDay Three Bath & Body creates fresh\, natural\, handmade soaps and organic skincare\, inspired by the 3rd day of creation.  Featured in Southern Living! \n  \nBob Dobson – Henrico\, NC\nWood Turning \nBob is a retired USMC Colonel.  He enjoys golfing\, fishing\, reading\, traveling\, and cooking\, and has been turning wood for six years. \n\n  \n  \n\nHandmade Pottery by Jayme Doerhoff – Jayme Doerhoff – Bracey\, VA\nPottery  \nJayme is a locally taught potter who handmakes pottery\, platters\, bowls\, cups\, candles\, and Holiday trees and wreaths. \n  \n\n  \n  \n\nMam Jam’s Candle Company – Tracy Foster – Rice\, VA\nHandmade Candles \nMam Jam’s Candles is a small\, family-run business that grew out of Tracy’s love of all things fragrant!  She began making candles in 2015 after becoming an empty-nester\, and she is thankful to be able to live out her passion! \n  \nLuxury Live Edge Furniture – Steve Grassi – Sumerduck\, VA – New Artist!\nWoodworking\n \nAfter Steve’s parents lost a 300-year-old oak tree\, his new furniture-making business was born and became his full-time job! \n\n  \n  \n\nKarl Groeger – Bracey\, VA\nMetal Works \nKarl retired in March of 2021 and learned to weld shortly after.  He makes fun things out of metal to keep himself busy and out of his wife’s hair! \n  \n\n  \nGutierrez Woodworking – Luis Gutierrez – Kernersville\, NC\nWoodworking \nLuis is a self-taught woodworker who loves turning wood pieces. \n  \n  \n  \nCarole Hans – Macon\, NC – New Artist!\nHandmade Journals & Paper \nAfter years as a watercolorist\, Carole felt the need to explore more tangible arts.  Most of her materials are thrifted\, giving a second life to paper and discarded books. \n  \n  \n\nKarolyn Hawthorne – South Hill\, VA\nPaintings & Silver Jewelry \nKarolyn was born and raised in Miami\, FL\, where she developed a love for natural beauty early in life. She attended college at Virginia Tech and\, after graduation\, moved to Lawrenceville\, VA to pursue a teaching career. In 1996\, she enrolled in an oil painting class at a Southside Virginia Community College\, and she was immediately hooked. Recently she has discovered that her greatest painting pleasure is painting animal portrait commissions\, however\, she also enjoys handcrafting fine silver jewelry as well. \n\n  \n\nPeggy Helms – Chesterfield\, VA\nAcrylic\, Pastel\, and Watercolor Paintings \nPeggy Helms is a retired grade school teacher and passionate artist who works primarily with acrylics and pastels. Her artwork reflects a deep love of family\,  nature\, and playful details.  She is currently creating hand-painted Halloween and Christmas gourds that blend charm with seasonal spirit. Whether capturing the beauty of the outdoors or the warmth of home\, her art invites joy and imagination. \n\n  \n\nWilloughby Hundley – Boydton\, VA \nAuthor \nDr. Willoughby Hundley is an emergency room physician who draws on his 35 years of experience as a county medical examiner to compose his fictitious mysteries set in Mecklenburg County.  A graduate of VCU medical school\, he lives with his wife in his hometown of Boydton\, VA. \n\n  \n  \n\nJanet Jackson – Raleigh\, NC\nJewelry \nJanet transforms semiprecious gemstones into unique\, trend-forward designs.  Using hand tools\, she carefully shapes and assembles each component.  Her unique earwires are hand-formed using a USA-made sterling silver wire. \n\n  \n  \n\nKindred Spirits Pottery – Brigitte Bombardier & Dale Willingham – Littleton\, NC\nPottery \nBrigitte and Dale are husband and wife\, studio potters\, handcrafting pottery on the wheel and hand-building.  They enjoy creating handmade\, functional\, one-of-a-kind pottery inspired by beautiful Lake Gaston. \n\n  \n\nCricket Glass Designs – Gary Orr – Valentines\, VA \nStained-Glass \nGary is a self-taught stained glass artist and has 23 years of making and designing glass art using the Tiffany Style.  His specialties include custom-designed Window Panels\, Door Transoms\, and Cabinet Doors.  You can also catch him teaching stained glass at Norton’s Art Studio in Henrico\, NC\, and Halifax Studios in Halifax\, NC. \n\n  \n  \n\nRecycled Bag Lady – Mary Pike – Arlington\, VA – New Artist!\nHandwoven Bags\n \nMary has been creating and selling recycled bags for over 15 years!  She hand-weaves and crochets small cross-body bags\, tote bags\, and water bottle bags from recycled plastic bags. \n\n  \n  \n\nUnique Stained Glass – Madeline Ramsey – Alexandria\, VAStained Glass\, Fused Glass Plates\, and Bowls \nMadeline has been making glass for over 40 years.  She loves all things glass and aims to make art and beauty accessible to all! \n\n  \n  \nJR Custom Pipes & More – Jim Rose – Clarksville\, VA – New Artist!\nWoodworks\n \nJohn is a semi-retired Rosemont Barrel Club Member who handmakes wine and whiskey barrel art. \n  \n  \n\nScrollsaw Chris – Chris Ruch – Ebony\, VA\nWood Scroll Saw Pieces \nChris Ruch retired to Lake Gaston with his wife\, Valerie\, in 2011 from New Jersey. He began woodworking and scroll sawing as a hobby.  Chris cuts each piece by hand\, one at a time\, without the use of a computer-driven laser or router.  He’s just a retired man with lots of time and way too much sawdust in his garage! \n  \nStitches & Wishes – Valerie Ruch  – Ebony\, VA\nQuilting \nValerie is originally from Pennsylvania and retired to Lake Gaston.  She loves living here! \n\n  \n  \n\nSisters in Crime – Chesapeake\, VA\nAuthors \nSisters in Crime is a premier crime writing association dedicated to representing women crime writers.  They are an inclusive community supporting all fellow mystery writers and readers. \n\n  \n  \n\nPatricia Snipes & Karen Doerfler – Ebony\, VA\nStained Glass \nPatricia has been working with glass for more than 25 years\, primarily using the copper foil method.  Karen joined the team around five years ago\, and together they work on various projects within the glass medium daily! \n\n  \n  \nEdwards Woodcraft – Wake Forest\, NC – New Artist!\nWoodworking \nEdwards Woodcraft has a passion for woodworking and creating.  All of their items are handmade on the Edwards Family Farm in Middlesex\, NC. \n  \n  \n \nLoopsy Daisy – Alyssa Truesdale – Fuquay-Varina\, NC – New Artist!\nPermanent Jewelry \nAlyssa is a mom to four boys who started the ultimate “girly” hobby of creating jewelry!  She loves spending her Summers and weekends at Lake Gaston with her family and friends. \n  \n  \nWalshie Wildlife – Jim Walsh – Raleigh\, NC – New Artist!\nPhotography \nFor over 20 years\, Jim’s explored Lake Gaston by kayak\, capturing the beauty of its wildlife from the water.  His work showcases the lake’s untamed spirit. \n  \n  \nShore Soap – Carolyn Zahnow – Grandy\, NC\nHandmade Skin Care \nCaroyln has been creating soap for over 10 years.  She recently moved to the “Inner Banks” which has provided her even more inspiration!
URL:https://rosemontofvirginia.com/event/15th-annual-wine-art-festival/
LOCATION:Rosemont\, 1050 Blackridge Road\, LaCrosse\, VA\, 23950\, United States
CATEGORIES:Art,Event,Food,Music,Wine Festival
ATTACH;FMTTYPE=image/jpeg:https://rosemontofvirginia.com/wp-content/uploads/2023/03/RoseMont_WineAndArt_Print_Color_Microsoft.jpg
END:VEVENT
BEGIN:VEVENT
DTSTART;TZID=America/New_York:20250706T170000
DTEND;TZID=America/New_York:20250706T210000
DTSTAMP:20260423T075903
CREATED:20250403T184443Z
LAST-MODIFIED:20250703T214834Z
UID:6982-1751821200-1751835600@rosemontofvirginia.com
SUMMARY:Independence Day Concert w/ The Feature Attraction Band + Fireworks
DESCRIPTION:Sunday\, July 6th\n5:00 PM – 9:00 PM\nThe Feature Attraction Band & Fireworks\nCome help us celebrate Independence Day with The Feature Attraction Band followed by fireworks over the vineyard!  The Feature Attraction Band is a diversified group of entertainers that plays the best music from yesterday and today! \n\nBring your lawn chairs\, blankets\, friends\, and family\, and join us for a fantastic night of music\, wine\, food\, and fun!  We’ll be welcoming back Off The Chain\, Mama Roo’s Italian Kitchen\, and The Cottage Barn\, who will be serving up some delicious food! \n\n\nAs always\, you are also welcome to bring your own picnic as well – just please no outside alcohol\, as our ABC Permit does not allow for it.  As before\, we will be joined by Buggs Island Brewing who will have some of their amazing craft beers on tap! \n\nTICKETS\n\nPre-sale tickets are no longer available.  Any remaining tickets will be available for purchase at the gate on Sunday\, July 6th\, beginning at 4pm. \n\n\nTicket Prices \nGeneral Admission (21+) – $25\nClub Members – $20\nPrice includes concert admission and a souvenir glass. \nChildren (Ages 6 – 20) – $5\nChildren 5 and Under – Free\nConcert admission only. \n  \nTENT SPACES\n\nTents will only be allowed for those who reserve a space for this concert.  Due to high demand\, and to make the process more efficient\, 12×12 tent spaces for the concert will only be made available to those purchasing a space.  If you do not purchase a tent space\, you will not be allowed to put up a tent for the concert. \n\n\nALL proceeds from tent space sales directly benefit You Are Not Alone Day.  You Are Not Alone Day (YNAD) is an event hosted annually by Exiled Motorcycle Club\, the group that sets off the fireworks at this event.  YNAD supports members of our community who could use a showing of support while they are dealing with the current circumstances of their lives.  All proceeds donated to this event go directly to the members of our community who need it the most!\n\n\n\n\n\n  \n\n\n🎆 Note that tent spaces are designated like A12 or D8 based on row and column locations. Pricing is designated by the tent space color\, located on the layout.  \nCLICK HERE FOR TENT LAYOUT \n\n\n\n\n\n\n🎆 Please call the Winery directly at 434-636-9463 to secure your tent space. \n\n\n\n\n🎆 All spaces are 12×12 squares. \n\n\n\n\n🎆 Tents are NOT included in the space rental\, and you must provide your own. \n\n\n\n🎆 New for 2025: Tents MUST be set up between the hours of 11:00 AM and 3:00 PM to help with traffic flow during the concert. \n\n\n\n\n\n\n🎆 If you do not purchase a tent space\, you will NOT be able to put up a tent for this event\, as we do not have the space.\n\n\nClick Here for a List of Frequently Asked Questions
URL:https://rosemontofvirginia.com/event/6982/
LOCATION:Rosemont\, 1050 Blackridge Road\, LaCrosse\, VA\, 23950\, United States
CATEGORIES:Event,Food,Holidays,Music
ATTACH;FMTTYPE=image/jpeg:https://rosemontofvirginia.com/wp-content/uploads/2025/04/July4thConcertB.jpg
END:VEVENT
BEGIN:VEVENT
DTSTART;TZID=America/New_York:20250830T170000
DTEND;TZID=America/New_York:20250830T210000
DTSTAMP:20260423T075903
CREATED:20250403T185529Z
LAST-MODIFIED:20250829T175203Z
UID:6985-1756573200-1756587600@rosemontofvirginia.com
SUMMARY:Summer Concert Series w/Nobodies From Nowhere
DESCRIPTION:Come help us celebrate Labor Day with Nobodies From Nowhere!  Nobodies From Nowhere are a Jimmy Buffett tribute band\, and we are excited to welcome them to the Rosemont stage! \n\nBring your lawn chairs\, blankets\, friends\, and family\, and join us for a fantastic night of music\, wine\, food\, and fun!  We’ll be welcoming back The Coop from Coopers Landing and The Cottage Barn\, who will be serving up some delicious food!\n\nAs always\, you are also welcome to bring your own picnic as well – just please no outside alcohol as our ABC Permit does not allow for it.  As before\, we will be joined by Buggs Island Brewing\, who will have some of their amazing craft beers on tap! \n\nTicket Prices \nGeneral Admission (21+) – $20\nClub Members – $15\nPrice includes concert admission and a souvenir glass. \nChildren (Ages 6 – 20) – $5\nChildren 5 and Under – Free\nConcert admission only. \nWe are no longer pre-selling tickets to this event.  Tickets will be available at the gate starting at 4pm on Saturday\, August 30th. \n\nClick Here for a list of frequently asked questions.
URL:https://rosemontofvirginia.com/event/summer-concert-series-w-nobodies-from-nowhere/
LOCATION:Rosemont\, 1050 Blackridge Road\, LaCrosse\, VA\, 23950\, United States
CATEGORIES:Event,Food,Holidays,Music
ATTACH;FMTTYPE=image/jpeg:https://rosemontofvirginia.com/wp-content/uploads/2025/04/Nobodies-From-Nowhere.jpg
END:VEVENT
BEGIN:VEVENT
DTSTART;TZID=America/New_York:20251018T110000
DTEND;TZID=America/New_York:20251018T180000
DTSTAMP:20260423T075903
CREATED:20250724T194155Z
LAST-MODIFIED:20251006T181638Z
UID:7296-1760785200-1760810400@rosemontofvirginia.com
SUMMARY:16th Annual End of Harvest Festival
DESCRIPTION:Come help us celebrate the end of another successful harvest season!  It’s a day to kick back\, relax\, and enjoy the beautiful Fall weather and bounty of the vineyard. \nThere is no fee to attend – only a $15 tasting fee to enjoy wine for the day – Rosemont souvenir glass is included!  So bring the entire family and make a great afternoon of celebrating the end of harvest.  Here are just some of the activities that we’ll have available: \n\nGrape Stomp Competition @ 2:00 PM\nCome by early and sign up for the Grape Stomp Competition!  It is open to everyone\, so enter your name into the drawing for a chance to participate!  Put your name in at 11:00 AM and we will draw names starting at 2:00 pm.  Participating contestants will have the chance to win great prizes!\n\n\nLive Music Starting @ 1:00 PM \nHarmony Holler\, out of Farmville\, VA\, will be joining us for the day!  They are a dynamic\, high-energy band blending country grit\, rock edge\, and soulful storytelling into a live show that captivates audiences of all kinds! \n\nFood for Everyone All Day Long\n\n\nWe’ll be joined by Roll With It\, Beer Fed Beef\, and Jenny Cakes at The Lake who will be serving their fun take on egg rolls\, delicious burgers\, and handmade pastries (respectively) all day!\n\nActivities for the Entire Family!\nWe offer a variety of activities that the whole family can participate in – pumpkin painting and we’ll even have a great setup for a family photo opportunity\, so be sure to bring your camera!
URL:https://rosemontofvirginia.com/event/16th-annual-end-of-harvest-festival/
LOCATION:Rosemont\, 1050 Blackridge Road\, LaCrosse\, VA\, 23950\, United States
CATEGORIES:Event,Food,Music,Wine Festival
ATTACH;FMTTYPE=image/jpeg:https://rosemontofvirginia.com/wp-content/uploads/2025/06/rosemont-visit-10-03-2023-17.jpg
END:VEVENT
BEGIN:VEVENT
DTSTART;TZID=America/New_York:20251116T130000
DTEND;TZID=America/New_York:20251116T180000
DTSTAMP:20260423T075903
CREATED:20251027T152320Z
LAST-MODIFIED:20251027T152421Z
UID:7493-1763298000-1763316000@rosemontofvirginia.com
SUMMARY:Wine Club Pick-Up Party
DESCRIPTION:Calling all Wine & Barrel Club Members!  Our next Wine Club Pick-Up Party will be Sunday\, November 16th\, from 1 – 6pm.  We’ll taste the three wines in the Mixed Wine Club Shipment\, have live music from BlueSided and Beer Fed Beef will be selling their amazing food! \nAn RSVP is required for this event\, as we are limited to the capacity of the building.  To RSVP\, please email Kyndal at kyndal@rosemontofvirginia.com. \nThis event is floating from 1pm – 6pm and all seating is first-come-first-served.
URL:https://rosemontofvirginia.com/event/wine-club-pick-up-party-9/
LOCATION:Rosemont\, 1050 Blackridge Road\, LaCrosse\, VA\, 23950\, United States
CATEGORIES:Club Member Event,Food,Music
ATTACH;FMTTYPE=image/jpeg:https://rosemontofvirginia.com/wp-content/uploads/2025/06/rosemont-visit-10-03-2023-17.jpg
END:VEVENT
BEGIN:VEVENT
DTSTART;TZID=America/New_York:20260523T170000
DTEND;TZID=America/New_York:20260523T210000
DTSTAMP:20260423T075903
CREATED:20260223T193322Z
LAST-MODIFIED:20260223T193528Z
UID:7604-1779555600-1779570000@rosemontofvirginia.com
SUMMARY:Summer Concert Series w/Camel City Yacht Club
DESCRIPTION:Saturday\, May 23rd\n5:00 PM – 9:00 PM\n Camel City Yacht Club\nCome help us welcome Summer and welcome Camel City Yacht Club to the Rosemont stage!  Camel City Yacht Club is a diversified group of entertainers that are devoted to bringing you the finest smooth rock of the 70’s and 80’s! \n  \nBring your lawn chairs\, blankets\, friends\, and family\, and join us for a fantastic night of music\, wine\, food\, and fun!  We’ll be welcoming back The Salty Cactus and The Cottage Barn who will be serving up some delicious food! As always\, you are also welcome to bring your picnic as well – just please no outside alcohol as our ABC Permit does not allow for it.  As before\, we will be joined by Buggs Island Brewing who will have some of their amazing craft beers on tap! \n  \n**PLEASE NOTE:  If you are bringing a tent or canopy to sit under during the event\, ALL tents must be located on the upper level of the lawn\, between the rock wall and the vines.  No tents are allowed on the middle and lower levels. Tents may be set up AFTER 11 AM the day of the event; any tents set up before that time will be dismantled by Rosemont. \nClick Here for List of Frequently Asked Questions \nTickets for this event will go on sale on May 1st.
URL:https://rosemontofvirginia.com/event/summer-concert-series-w-camel-city-yacht-club/
LOCATION:Rosemont\, 1050 Blackridge Road\, LaCrosse\, VA\, 23950\, United States
CATEGORIES:Event,Food,Music
ATTACH;FMTTYPE=image/avif:https://rosemontofvirginia.com/wp-content/uploads/2026/02/CCYC-Logo.avif
END:VEVENT
BEGIN:VEVENT
DTSTART;TZID=America/New_York:20260620T110000
DTEND;TZID=America/New_York:20260620T170000
DTSTAMP:20260423T075903
CREATED:20260210T190909Z
LAST-MODIFIED:20260210T213244Z
UID:7579-1781953200-1781974800@rosemontofvirginia.com
SUMMARY:16th Annual Wine & Art Festival
DESCRIPTION:Make plans to join us for the 16th Annual Rosemont Wine & Art Festival! \n\n\nThis is our biggest event of the year\, highlighting over 30 fine artists and exhibitors\, adding new talent year after year.  You’ll find art of all mediums\, including paintings\, photography\, pottery\, jewelry\, woodworking\, and more. \nGregory’s Grill and Beer Fed Beef will be on-site serving their amazing food and Adriel Genet and Little Red Birds will be playing throughout the day! \n\nArtists:  Click Here for an Application! \n 
URL:https://rosemontofvirginia.com/event/16th-annual-wine-art-festival/
LOCATION:Rosemont\, 1050 Blackridge Road\, LaCrosse\, VA\, 23950\, United States
CATEGORIES:Art,Event,Food,Music
ATTACH;FMTTYPE=image/jpeg:https://rosemontofvirginia.com/wp-content/uploads/2023/03/RoseMont_WineAndArt_Print_Color_Microsoft.jpg
END:VEVENT
BEGIN:VEVENT
DTSTART;TZID=America/New_York:20261017T110000
DTEND;TZID=America/New_York:20261017T180000
DTSTAMP:20260423T075903
CREATED:20260213T183859Z
LAST-MODIFIED:20260213T183859Z
UID:7589-1792234800-1792260000@rosemontofvirginia.com
SUMMARY:17th Annual End of Harvest Festival
DESCRIPTION:Come help us celebrate the end of another successful harvest season!  It’s a day to kick back\, relax\, and enjoy the beautiful Fall weather and bounty of the vineyard. \nThere is no fee to attend – only a $15 tasting fee to enjoy wine for the day – Rosemont souvenir glass is included!  So bring the entire family and make a great afternoon of celebrating the end of harvest.  Here are just some of the activities that we’ll have available: \n\nGrape Stomp Competition @ 2:00 PM\nCome by early and sign up for the Grape Stomp Competition!  It is open to everyone\, so enter your name into the drawing for a chance to participate!  Put your name in at 11:00 AM and we will draw names starting at 2:00 pm.  Participating contestants will have the chance to win great prizes!\n\n\nLive Music Starting @ 1:00 PM \nFood for Everyone All Day Long\nWe’ll be joined by Cousins Maine Lobster and A Taste of Texas who will be serving their lobster dishes and BBQ (respectively) all day! \n\nActivities for the Entire Family!\nWe offer a variety of activities that the whole family can participate in – pumpkin painting and we’ll even have a great setup for a family photo opportunity\, so be sure to bring your camera!
URL:https://rosemontofvirginia.com/event/17th-annual-end-of-harvest-festival/
LOCATION:Rosemont\, 1050 Blackridge Road\, LaCrosse\, VA\, 23950\, United States
CATEGORIES:Event,Food,Music,Wine Festival
ATTACH;FMTTYPE=image/jpeg:https://rosemontofvirginia.com/wp-content/uploads/2025/06/rosemont-visit-10-03-2023-17.jpg
END:VEVENT
END:VCALENDAR