BEGIN:VCALENDAR
VERSION:2.0
PRODID:-//Rosemont of Virginia - ECPv6.15.20//NONSGML v1.0//EN
CALSCALE:GREGORIAN
METHOD:PUBLISH
X-WR-CALNAME:Rosemont of Virginia
X-ORIGINAL-URL:https://rosemontofvirginia.com
X-WR-CALDESC:Events for Rosemont of Virginia
REFRESH-INTERVAL;VALUE=DURATION:PT1H
X-Robots-Tag:noindex
X-PUBLISHED-TTL:PT1H
BEGIN:VTIMEZONE
TZID:America/New_York
BEGIN:DAYLIGHT
TZOFFSETFROM:-0500
TZOFFSETTO:-0400
TZNAME:EDT
DTSTART:20220313T070000
END:DAYLIGHT
BEGIN:STANDARD
TZOFFSETFROM:-0400
TZOFFSETTO:-0500
TZNAME:EST
DTSTART:20221106T060000
END:STANDARD
BEGIN:DAYLIGHT
TZOFFSETFROM:-0500
TZOFFSETTO:-0400
TZNAME:EDT
DTSTART:20230312T070000
END:DAYLIGHT
BEGIN:STANDARD
TZOFFSETFROM:-0400
TZOFFSETTO:-0500
TZNAME:EST
DTSTART:20231105T060000
END:STANDARD
BEGIN:DAYLIGHT
TZOFFSETFROM:-0500
TZOFFSETTO:-0400
TZNAME:EDT
DTSTART:20240310T070000
END:DAYLIGHT
BEGIN:STANDARD
TZOFFSETFROM:-0400
TZOFFSETTO:-0500
TZNAME:EST
DTSTART:20241103T060000
END:STANDARD
END:VTIMEZONE
BEGIN:VEVENT
DTSTART;TZID=America/New_York:20230702T170000
DTEND;TZID=America/New_York:20230702T210000
DTSTAMP:20260423T072658
CREATED:20230529T202359Z
LAST-MODIFIED:20230630T151947Z
UID:5776-1688317200-1688331600@rosemontofvirginia.com
SUMMARY:Summer Concert Series w/The Feature Attraction Band - SOLD OUT
DESCRIPTION:Sunday\, July 2nd\n5:00 PM – 9:00 PM\nThe Feature Attraction Band\n\nCome help us celebrate Independence Day with The Feature Attraction Band!  The Feature Attraction Band is a diversified group of entertainers that play the best music from yesterday and today! \nBring your lawn chairs\, blankets\, friends\, and family\, and join us for a fantastic night of music\, wine\, food\, and fun!  We’ll be welcoming back Gregory’s Grill\,  Off the Chain\, and The Cottage Barn who will be serving up some delicious food! \nAs always\, you are also welcome to bring your own picnic as well – just please no outside alcohol as our ABC Permit does not allow for it.  As before\, we will be joined by Buggs Island Brewing who will have some of their amazing craft beers on tap! \n*****NEW FOR JULY 2023​​***** \n– TENT SPACES FOR THIS EVENT ARE SOLD OUT.  No other tents will be allowed to be set up. \nTENT SPACES will only be available through purchase at this concert.  Due to high demand\, and to make the process more efficient\, we will be “selling” 12×12 tent spaces for Independence Day’s concert.  All proceeds will benefit You Are Not Alone Day\, an event hosted annually by Exiled Motorcycle Club\, the group that sets off the fireworks at this event.  You Are Not Alone Day supports members of our community who could use a showing of support while they are dealing with the current circumstances of their life.  All proceeds donated to this event go directly to the members of our community who need it the most! \n  \n 
URL:https://rosemontofvirginia.com/event/summer-concert-series-w-the-feature-attraction-band/
LOCATION:Rosemont\, 1050 Blackridge Road\, LaCrosse\, VA\, 23950\, United States
CATEGORIES:Event,Food,Holidays,Music
ATTACH;FMTTYPE=image/jpeg:https://rosemontofvirginia.com/wp-content/uploads/2023/05/Feature-Attraction-Band.2.jpg
END:VEVENT
BEGIN:VEVENT
DTSTART;TZID=America/New_York:20230715T110000
DTEND;TZID=America/New_York:20230715T170000
DTSTAMP:20260423T072658
CREATED:20230530T195713Z
LAST-MODIFIED:20230530T195713Z
UID:5783-1689418800-1689440400@rosemontofvirginia.com
SUMMARY:Wine + Dine w/Off the Chain
DESCRIPTION:Come out to Rosemont for an afternoon of wine and enjoy food from Off the Chain! They will be on-site serving up their amazing food from 11 – 5pm. We hope you’ll stop by and join us for a bite and a glass or bottle of wine!
URL:https://rosemontofvirginia.com/event/wine-dine-w-off-the-chain/
LOCATION:Rosemont\, 1050 Blackridge Road\, LaCrosse\, VA\, 23950\, United States
CATEGORIES:Event,Food
ATTACH;FMTTYPE=image/jpeg:https://rosemontofvirginia.com/wp-content/uploads/2023/03/Off-the-Chain-Food-Truck.jpg
END:VEVENT
BEGIN:VEVENT
DTSTART;TZID=America/New_York:20230722T113000
DTEND;TZID=America/New_York:20230722T170000
DTSTAMP:20260423T072658
CREATED:20230606T163009Z
LAST-MODIFIED:20230606T163009Z
UID:5793-1690025400-1690045200@rosemontofvirginia.com
SUMMARY:Wine + Dine w/Sticky Rice
DESCRIPTION:Come out to Rosemont for an afternoon of wine and enjoy sushi from Sticky Rice! They will be on-site serving up their amazing sushi from 11:30 – 5pm. We hope you’ll stop by and join us for a bite and a glass or bottle of wine! \n*Please note that sushi will be cash only.
URL:https://rosemontofvirginia.com/event/wine-dine-w-sticky-rice/
LOCATION:Rosemont\, 1050 Blackridge Road\, LaCrosse\, VA\, 23950\, United States
CATEGORIES:Food
ATTACH;FMTTYPE=image/jpeg:https://rosemontofvirginia.com/wp-content/uploads/2023/06/Sticky-Rice.jpg
END:VEVENT
END:VCALENDAR