BEGIN:VCALENDAR
VERSION:2.0
PRODID:-//Rosemont of Virginia - ECPv6.15.20//NONSGML v1.0//EN
CALSCALE:GREGORIAN
METHOD:PUBLISH
X-ORIGINAL-URL:https://rosemontofvirginia.com
X-WR-CALDESC:Events for Rosemont of Virginia
REFRESH-INTERVAL;VALUE=DURATION:PT1H
X-Robots-Tag:noindex
X-PUBLISHED-TTL:PT1H
BEGIN:VTIMEZONE
TZID:America/New_York
BEGIN:DAYLIGHT
TZOFFSETFROM:-0500
TZOFFSETTO:-0400
TZNAME:EDT
DTSTART:20220313T070000
END:DAYLIGHT
BEGIN:STANDARD
TZOFFSETFROM:-0400
TZOFFSETTO:-0500
TZNAME:EST
DTSTART:20221106T060000
END:STANDARD
BEGIN:DAYLIGHT
TZOFFSETFROM:-0500
TZOFFSETTO:-0400
TZNAME:EDT
DTSTART:20230312T070000
END:DAYLIGHT
BEGIN:STANDARD
TZOFFSETFROM:-0400
TZOFFSETTO:-0500
TZNAME:EST
DTSTART:20231105T060000
END:STANDARD
BEGIN:DAYLIGHT
TZOFFSETFROM:-0500
TZOFFSETTO:-0400
TZNAME:EDT
DTSTART:20240310T070000
END:DAYLIGHT
BEGIN:STANDARD
TZOFFSETFROM:-0400
TZOFFSETTO:-0500
TZNAME:EST
DTSTART:20241103T060000
END:STANDARD
END:VTIMEZONE
BEGIN:VEVENT
DTSTART;TZID=America/New_York:20231005T183000
DTEND;TZID=America/New_York:20231005T210000
DTSTAMP:20260423T025228
CREATED:20230912T210341Z
LAST-MODIFIED:20230914T165806Z
UID:5949-1696530600-1696539600@rosemontofvirginia.com
SUMMARY:Northside Social Rosemont Wine Dinner
DESCRIPTION:Join winemaker Justin Rose for a 5 wine\, 4-course dinner prepared by one of our chef friends\, Emer O’Rourke from Northside Social!  We are excited to head to Falls Church for this fun evening\, featuring her delicious food paired with our Rosemont wines.  Bonus – the menu even includes the 2021 Kilravock\, which won’t officially be released until January! \nThe Details:\nThursday\, October 5\, 2023\nThe Upstairs Wine Bar @ Northside Social Falls Church\nWelcome Wine: 6:30pm\nSeated Dinner: 7:00pm \nMenu by:\nEmer O’Rourke | Chef\, Northside Social Falls Church\nBridie McCulla | Executive Pastry Chef\, Liberty Restaurant Group \nTickets:\n$70 / ticket\n+ 10% tax & 20% gratuity\nSeating is limited \nFor Tickets: https://www.northsidesocialva.com/event/Rosemont-wine-dinner/
URL:https://rosemontofvirginia.com/event/northside-social-rosemont-wine-dinner/
LOCATION:Northside Social – Falls Church\, 205 Park Avenue\, Falls Church\, VA\, 22046\, United States
CATEGORIES:Event,Food
ATTACH;FMTTYPE=image/jpeg:https://rosemontofvirginia.com/wp-content/uploads/2023/09/Northside-Social-Dinner-e1694552084504.jpg
END:VEVENT
BEGIN:VEVENT
DTSTART;TZID=America/New_York:20231008T140000
DTEND;TZID=America/New_York:20231008T170000
DTSTAMP:20260423T025228
CREATED:20230904T152559Z
LAST-MODIFIED:20231002T182247Z
UID:5937-1696773600-1696784400@rosemontofvirginia.com
SUMMARY:Charcuterie & Cheese Pairing Class - Sold Out!
DESCRIPTION:*This event is sold out!  If you’d like to be added to the waitlist please call the Winery at 434-636-9463. \nJoin us along with the Lake Gaston Kitchen Table as they walk us through the steps to building a beautiful charcuterie board!  This class is $50 and includes a curated flight of four Rosemont wines paired with four cheeses and all the ingredients to make your own charcuterie box that can either be enjoyed here at the Winery or taken home!
URL:https://rosemontofvirginia.com/event/charcuterie-cheese-pairing-class/
LOCATION:Rosemont\, 1050 Blackridge Road\, LaCrosse\, VA\, 23950\, United States
CATEGORIES:Event,Food
ATTACH;FMTTYPE=image/jpeg:https://rosemontofvirginia.com/wp-content/uploads/2023/09/SCC4.jpg
END:VEVENT
BEGIN:VEVENT
DTSTART;TZID=America/New_York:20231014T140000
DTEND;TZID=America/New_York:20231014T170000
DTSTAMP:20260423T025228
CREATED:20230823T200445Z
LAST-MODIFIED:20231003T155335Z
UID:5925-1697292000-1697302800@rosemontofvirginia.com
SUMMARY:Wine + Dine w/NC Oyster 365
DESCRIPTION:Come out to Rosemont for an afternoon of wine and enjoy food from NC Oyster 365! They will be on-site serving their raw or steamed oysters and peel-and-eat shrimp from 2 – 5pm. We hope you’ll stop by and join us for a bite and a glass or bottle of wine! \n*Pre-orders Click Here*\n– Use the password “Jefferson” and select “Clarksville & LaCrosse” pre-orders.  Be sure to designate “Rosemont” as your pick-up location on the payment page!
URL:https://rosemontofvirginia.com/event/wine-dine-w-nc-oyster-365-2/
LOCATION:Rosemont\, 1050 Blackridge Road\, LaCrosse\, VA\, 23950\, United States
CATEGORIES:Event,Food
ATTACH;FMTTYPE=image/jpeg:https://rosemontofvirginia.com/wp-content/uploads/2022/09/NCOyster365Logo-700x321-1.jpeg
END:VEVENT
BEGIN:VEVENT
DTSTART;TZID=America/New_York:20231021T110000
DTEND;TZID=America/New_York:20231021T180000
DTSTAMP:20260423T025228
CREATED:20230810T200305Z
LAST-MODIFIED:20231009T155141Z
UID:5914-1697886000-1697911200@rosemontofvirginia.com
SUMMARY:14th Annual End of Harvest Festival
DESCRIPTION:Come help us celebrate the end of another successful harvest season!  It’s a day to kick back\, relax\, and enjoy the beautiful Fall weather and bounty of the vineyard. \nThere is no fee to attend – only a $15 tasting fee to enjoy wine for the day – Rosemont souvenir glass is included!  So bring the entire family and make a great afternoon of celebrating the end of harvest.  Here are just some of the activities that we’ll have available: \n\nGrape Stomp Competition @ 2:00 PM\nCome by early and sign up for the Grape Stomp Competition!  It is open to everyone so enter your name into the drawing for a chance to participate!  Put your name in at 11:00 AM and we will draw names starting at 2:00 pm.  Participating contestants will have the chance to win three great prizes!\n\nLive Music Starting @ 1:00 PM\nwith the Robbie McMillian Band\n\n\nFood for Everyone All Day Long\nCooper’s Landing Inn and Traveler’s Tavern and The Cottage Barn will be here as well serving up their delicious food that many of you may be familiar with.  There are sure to be plenty of options available for everyone!\n\nActivities for the Entire Family!\nWe offer a variety of activities that the whole family can participate in – pumpkin painting and we’ll even have a great setup for a family photo opportunity\, so be sure to bring your camera!
URL:https://rosemontofvirginia.com/event/harvestfestival/
LOCATION:Rosemont\, 1050 Blackridge Road\, LaCrosse\, VA\, 23950\, United States
CATEGORIES:Event,Food,Music,Wine Festival
ATTACH;FMTTYPE=image/jpeg:https://rosemontofvirginia.com/wp-content/uploads/2023/08/Feet-Stomping-2022.jpg
END:VEVENT
BEGIN:VEVENT
DTSTART;TZID=America/New_York:20231028T110000
DTEND;TZID=America/New_York:20231028T170000
DTSTAMP:20260423T025228
CREATED:20230831T194304Z
LAST-MODIFIED:20230831T194304Z
UID:5933-1698490800-1698512400@rosemontofvirginia.com
SUMMARY:Wine + Dine w/Sticky Rice
DESCRIPTION:Come out to Rosemont for an afternoon of wine and enjoy sushi from Sticky Rice! They will be on-site serving up their amazing sushi from 11 – 5pm. We hope you’ll stop by and join us for a bite and a glass or bottle of wine! \n*Please note that sushi will be cash only.
URL:https://rosemontofvirginia.com/event/wine-dine-w-sticky-rice-2/
LOCATION:Rosemont\, 1050 Blackridge Road\, LaCrosse\, VA\, 23950\, United States
CATEGORIES:Event,Food
ATTACH;FMTTYPE=image/jpeg:https://rosemontofvirginia.com/wp-content/uploads/2023/06/Sticky-Rice.jpg
END:VEVENT
END:VCALENDAR