BEGIN:VCALENDAR
VERSION:2.0
PRODID:-//Rosemont of Virginia - ECPv6.15.20//NONSGML v1.0//EN
CALSCALE:GREGORIAN
METHOD:PUBLISH
X-WR-CALNAME:Rosemont of Virginia
X-ORIGINAL-URL:https://rosemontofvirginia.com
X-WR-CALDESC:Events for Rosemont of Virginia
REFRESH-INTERVAL;VALUE=DURATION:PT1H
X-Robots-Tag:noindex
X-PUBLISHED-TTL:PT1H
BEGIN:VTIMEZONE
TZID:America/New_York
BEGIN:DAYLIGHT
TZOFFSETFROM:-0500
TZOFFSETTO:-0400
TZNAME:EDT
DTSTART:20230312T070000
END:DAYLIGHT
BEGIN:STANDARD
TZOFFSETFROM:-0400
TZOFFSETTO:-0500
TZNAME:EST
DTSTART:20231105T060000
END:STANDARD
BEGIN:DAYLIGHT
TZOFFSETFROM:-0500
TZOFFSETTO:-0400
TZNAME:EDT
DTSTART:20240310T070000
END:DAYLIGHT
BEGIN:STANDARD
TZOFFSETFROM:-0400
TZOFFSETTO:-0500
TZNAME:EST
DTSTART:20241103T060000
END:STANDARD
BEGIN:DAYLIGHT
TZOFFSETFROM:-0500
TZOFFSETTO:-0400
TZNAME:EDT
DTSTART:20250309T070000
END:DAYLIGHT
BEGIN:STANDARD
TZOFFSETFROM:-0400
TZOFFSETTO:-0500
TZNAME:EST
DTSTART:20251102T060000
END:STANDARD
END:VTIMEZONE
BEGIN:VEVENT
DTSTART;TZID=America/New_York:20240316T110000
DTEND;TZID=America/New_York:20240316T170000
DTSTAMP:20260422T190222
CREATED:20240312T145521Z
LAST-MODIFIED:20240312T145521Z
UID:6306-1710586800-1710608400@rosemontofvirginia.com
SUMMARY:Wine + Dine w/The Kitchen Table
DESCRIPTION:Come out to Rosemont for an afternoon of wine and enjoy food from The Kitchen Table! They will be on-site serving their pre-made charcuterie boxes from 11 – 5pm. We hope you’ll stop by and join us for a bite and a glass or bottle of wine! \nClick here to pre-order a charcuterie box!
URL:https://rosemontofvirginia.com/event/wine-dine-w-the-kitchen-table-3/
LOCATION:Rosemont\, 1050 Blackridge Road\, LaCrosse\, VA\, 23950\, United States
CATEGORIES:Event,Food
ATTACH;FMTTYPE=image/jpeg:https://rosemontofvirginia.com/wp-content/uploads/2023/12/Charcuterie-Board.jpg
END:VEVENT
BEGIN:VEVENT
DTSTART;TZID=America/New_York:20240322T180000
DTEND;TZID=America/New_York:20240323T180000
DTSTAMP:20260422T190222
CREATED:20230209T203544Z
LAST-MODIFIED:20240217T165015Z
UID:5568-1711130400-1711216800@rosemontofvirginia.com
SUMMARY:Kilravock Blending Party
DESCRIPTION:Join us Friday\, March 22nd\, or Saturday\, March 23rd as we walk through the process of crafting our signature red blend\, Kilravock! Taste the different varieties individually\, try your hand at your best blend\, and then finally taste what we will be putting into the bottle this coming May.\n\n\nThis special event is limited to Rosemont Barrel Club & 1858 Wine Club Members and friends only.  Tickets are $60 per person and go on sale February 20th.  Light refreshments will be served.
URL:https://rosemontofvirginia.com/event/kilravock-blending-party/
LOCATION:Rosemont\, 1050 Blackridge Road\, LaCrosse\, VA\, 23950\, United States
CATEGORIES:Club Member Event,Event
ATTACH;FMTTYPE=image/jpeg:https://rosemontofvirginia.com/wp-content/uploads/2023/02/Virtual-Blending-Bundle.jpg
END:VEVENT
BEGIN:VEVENT
DTSTART;TZID=America/New_York:20240330T140000
DTEND;TZID=America/New_York:20240330T170000
DTSTAMP:20260422T190222
CREATED:20240111T202849Z
LAST-MODIFIED:20240315T175442Z
UID:6065-1711807200-1711818000@rosemontofvirginia.com
SUMMARY:Wine + Dine w/NC Oyster 365
DESCRIPTION:Come out to Rosemont for an afternoon of wine and enjoy food from NC Oyster 365! They will be on-site serving their raw or steamed oysters and peel-and-eat shrimp from 2 – 5pm. We hope you’ll stop by and join us for a bite and a glass or bottle of wine! \nClick Here to pre-order oysters or shrimp!\nBe sure to use the password “old_bay” when pre-ordering.
URL:https://rosemontofvirginia.com/event/wine-dine-w-nc-oyster-365-3/
LOCATION:Rosemont\, 1050 Blackridge Road\, LaCrosse\, VA\, 23950\, United States
CATEGORIES:Food
ATTACH;FMTTYPE=image/jpeg:https://rosemontofvirginia.com/wp-content/uploads/2022/09/NCOyster365Logo-700x321-1.jpeg
END:VEVENT
END:VCALENDAR