BEGIN:VCALENDAR
VERSION:2.0
PRODID:-//Rosemont of Virginia - ECPv6.15.20//NONSGML v1.0//EN
CALSCALE:GREGORIAN
METHOD:PUBLISH
X-ORIGINAL-URL:https://rosemontofvirginia.com
X-WR-CALDESC:Events for Rosemont of Virginia
REFRESH-INTERVAL;VALUE=DURATION:PT1H
X-Robots-Tag:noindex
X-PUBLISHED-TTL:PT1H
BEGIN:VTIMEZONE
TZID:America/New_York
BEGIN:DAYLIGHT
TZOFFSETFROM:-0500
TZOFFSETTO:-0400
TZNAME:EDT
DTSTART:20230312T070000
END:DAYLIGHT
BEGIN:STANDARD
TZOFFSETFROM:-0400
TZOFFSETTO:-0500
TZNAME:EST
DTSTART:20231105T060000
END:STANDARD
BEGIN:DAYLIGHT
TZOFFSETFROM:-0500
TZOFFSETTO:-0400
TZNAME:EDT
DTSTART:20240310T070000
END:DAYLIGHT
BEGIN:STANDARD
TZOFFSETFROM:-0400
TZOFFSETTO:-0500
TZNAME:EST
DTSTART:20241103T060000
END:STANDARD
BEGIN:DAYLIGHT
TZOFFSETFROM:-0500
TZOFFSETTO:-0400
TZNAME:EDT
DTSTART:20250309T070000
END:DAYLIGHT
BEGIN:STANDARD
TZOFFSETFROM:-0400
TZOFFSETTO:-0500
TZNAME:EST
DTSTART:20251102T060000
END:STANDARD
END:VTIMEZONE
BEGIN:VEVENT
DTSTART;TZID=America/New_York:20240406T110000
DTEND;TZID=America/New_York:20240406T170000
DTSTAMP:20260422T173038
CREATED:20240304T171327Z
LAST-MODIFIED:20240304T190001Z
UID:6301-1712401200-1712422800@rosemontofvirginia.com
SUMMARY:Wine + Dine w/Off the Chain
DESCRIPTION:Come out to Rosemont for an afternoon of wine and enjoy food from Off the Chain! They will be on-site serving up their amazing food from 11 – 5pm. We hope you’ll stop by and join us for a bite and a glass or bottle of wine!
URL:https://rosemontofvirginia.com/event/wine-dine-w-off-the-chain-3/
LOCATION:Rosemont\, 1050 Blackridge Road\, LaCrosse\, VA\, 23950\, United States
CATEGORIES:Food
ATTACH;FMTTYPE=image/jpeg:https://rosemontofvirginia.com/wp-content/uploads/2024/03/Off-the-Chain-Food-Truck.jpg
END:VEVENT
BEGIN:VEVENT
DTSTART;TZID=America/New_York:20240413T110000
DTEND;TZID=America/New_York:20240413T180000
DTSTAMP:20260422T173038
CREATED:20240228T170014Z
LAST-MODIFIED:20240228T170131Z
UID:6116-1713006000-1713031200@rosemontofvirginia.com
SUMMARY:Wine + Dine w/Cousins Maine Lobster
DESCRIPTION:Come out to Rosemont for an afternoon of wine and enjoy delicious lobster rolls\, bisque\, tacos and more from Cousins Maine Lobster! They will be on-site serving up their amazing food from 11 – 6pm. We hope you’ll stop by and join us for a bite and a glass or bottle of wine!
URL:https://rosemontofvirginia.com/event/wine-dine-w-cousins-maine-lobster-2/
LOCATION:Rosemont\, 1050 Blackridge Road\, LaCrosse\, VA\, 23950\, United States
CATEGORIES:Event,Food
ATTACH;FMTTYPE=image/png:https://rosemontofvirginia.com/wp-content/uploads/2023/12/Cousins-Maine-Lobster.png
END:VEVENT
BEGIN:VEVENT
DTSTART;TZID=America/New_York:20240424T190000
DTEND;TZID=America/New_York:20240424T200000
DTSTAMP:20260422T173038
CREATED:20240412T203719Z
LAST-MODIFIED:20240412T203719Z
UID:6350-1713985200-1713988800@rosemontofvirginia.com
SUMMARY:Winemaker Wednesdays
DESCRIPTION:That’s right! Winemaker Wednesdays will be returning as an added perk to our 1858 and Barrel Club Members! Justin and Aubrey will be hosting Winemaker Wednesdays once a month\, starting April 24th. \n  \nThese live sessions will now be held via ZOOM\, instead of Facebook Live\, and as soon as we have the links for the month\, we’ll be sending those out to our entire Club list. Each month we’ll discuss wine club selections\, new wines\, or we’ll offer a special bundle featuring something fun\, like a library wine! We’ll list the upcoming dates on the website\, but for now\, our schedule is: \n  \n·    April 24th – 1858 Bundle\n·    May 22nd – May’s Club Selections\n·    June 12th – Cabernet Francs\n·    July 24th – Graciano & Chardonel Reserve\n·    August 21st – August’s Club Selections\n·    September 18th – TBD\n·    October 16th – Petit Verdots\n·    November 13th – Sparkling Wines\n·    December 11th – November’s Club Selections \n  \n1858 Bundle\nFor our first Winemaker Wednesday\, we are offering a special bundle of 1858\, our Club Exclusive red blend. It includes a bottle of our current vintage\, the 2021\, and a bottle from our library\, a 2016. \nJustin and Aubrey had the pleasure of tasting through the 1858 vintages over the holidays and felt like the 2016 was showing beautifully. They’re excited to share it and compare it to our latest vintage with you! \n2021 v. 1858\n78% Tannat\, 22% Petit Verdot \n2016 v. 1858\n50% Cabernet Franc\, 20% Petit Verdot\, 20% Merlot\, 10% Cabernet Sauvignon \nOnly 48 bundles are available\, with a maximum purchase limit of two per Club account. If purchasing online\, you must sign into your Club account to see and purchase the bundle. \n 
URL:https://rosemontofvirginia.com/event/winemaker-wednesdays/
LOCATION:VA
CATEGORIES:Club Member Event,Event
ATTACH;FMTTYPE=image/png:https://rosemontofvirginia.com/wp-content/uploads/2024/04/1858-Bundle.png
END:VEVENT
BEGIN:VEVENT
DTSTART;TZID=America/New_York:20240427T120000
DTEND;TZID=America/New_York:20240427T170000
DTSTAMP:20260422T173038
CREATED:20240328T160155Z
LAST-MODIFIED:20240328T160155Z
UID:6330-1714219200-1714237200@rosemontofvirginia.com
SUMMARY:Wine + Dine w/Sticky Rice
DESCRIPTION:Come out to Rosemont for an afternoon of wine and enjoy sushi from Sticky Rice! They will be on-site serving up their amazing sushi from 12 – 5pm. We hope you’ll stop by and join us for a bite and a glass or bottle of wine! \n*Please note that sushi will be cash only.
URL:https://rosemontofvirginia.com/event/wine-dine-w-sticky-rice-5/
LOCATION:Rosemont\, 1050 Blackridge Road\, LaCrosse\, VA\, 23950\, United States
CATEGORIES:Food
ATTACH;FMTTYPE=image/jpeg:https://rosemontofvirginia.com/wp-content/uploads/2023/06/Sticky-Rice.jpg
END:VEVENT
END:VCALENDAR