BEGIN:VCALENDAR
VERSION:2.0
PRODID:-//Rosemont of Virginia - ECPv6.15.20//NONSGML v1.0//EN
CALSCALE:GREGORIAN
METHOD:PUBLISH
X-ORIGINAL-URL:https://rosemontofvirginia.com
X-WR-CALDESC:Events for Rosemont of Virginia
REFRESH-INTERVAL;VALUE=DURATION:PT1H
X-Robots-Tag:noindex
X-PUBLISHED-TTL:PT1H
BEGIN:VTIMEZONE
TZID:America/New_York
BEGIN:DAYLIGHT
TZOFFSETFROM:-0500
TZOFFSETTO:-0400
TZNAME:EDT
DTSTART:20230312T070000
END:DAYLIGHT
BEGIN:STANDARD
TZOFFSETFROM:-0400
TZOFFSETTO:-0500
TZNAME:EST
DTSTART:20231105T060000
END:STANDARD
BEGIN:DAYLIGHT
TZOFFSETFROM:-0500
TZOFFSETTO:-0400
TZNAME:EDT
DTSTART:20240310T070000
END:DAYLIGHT
BEGIN:STANDARD
TZOFFSETFROM:-0400
TZOFFSETTO:-0500
TZNAME:EST
DTSTART:20241103T060000
END:STANDARD
BEGIN:DAYLIGHT
TZOFFSETFROM:-0500
TZOFFSETTO:-0400
TZNAME:EDT
DTSTART:20250309T070000
END:DAYLIGHT
BEGIN:STANDARD
TZOFFSETFROM:-0400
TZOFFSETTO:-0500
TZNAME:EST
DTSTART:20251102T060000
END:STANDARD
END:VTIMEZONE
BEGIN:VEVENT
DTSTART;TZID=America/New_York:20240810T110000
DTEND;TZID=America/New_York:20240810T170000
DTSTAMP:20260422T114747
CREATED:20240507T200256Z
LAST-MODIFIED:20240507T200256Z
UID:6457-1723287600-1723309200@rosemontofvirginia.com
SUMMARY:Wine + Dine w/A Taste of Texas
DESCRIPTION:Come out to Rosemont for an afternoon of wine and enjoy food from A Taste of Texas! They will be on-site serving their BBQ from 11 – 5pm. We hope you’ll stop by and join us for a bite and a glass or bottle of wine!
URL:https://rosemontofvirginia.com/event/wine-dine-w-a-taste-of-texas-3/
LOCATION:Rosemont\, 1050 Blackridge Road\, LaCrosse\, VA\, 23950\, United States
CATEGORIES:Food
ATTACH;FMTTYPE=image/png:https://rosemontofvirginia.com/wp-content/uploads/2024/03/ATOT-1.png
END:VEVENT
BEGIN:VEVENT
DTSTART;TZID=America/New_York:20240817T110000
DTEND;TZID=America/New_York:20240817T180000
DTSTAMP:20260422T114747
CREATED:20240709T155434Z
LAST-MODIFIED:20240807T174405Z
UID:6557-1723892400-1723917600@rosemontofvirginia.com
SUMMARY:Wine + Dine w/Cousins Maine Lobster
DESCRIPTION:Come out to Rosemont for an afternoon of wine and enjoy food from Cousins Maine Lobster! They will be on-site serving up their amazing food from 11 – 6pm. We hope you’ll stop by and join us for a bite and a glass or bottle of wine!
URL:https://rosemontofvirginia.com/event/wine-dine-w-cousins-maine-lobster-4/
LOCATION:VA
CATEGORIES:Food
ATTACH;FMTTYPE=image/png:https://rosemontofvirginia.com/wp-content/uploads/2023/12/Cousins-Maine-Lobster.png
END:VEVENT
BEGIN:VEVENT
DTSTART;TZID=America/New_York:20240818T130000
DTEND;TZID=America/New_York:20240818T180000
DTSTAMP:20260422T114747
CREATED:20240709T163437Z
LAST-MODIFIED:20240709T163437Z
UID:6566-1723986000-1724004000@rosemontofvirginia.com
SUMMARY:Winery Closed for Club Member Event
DESCRIPTION:The Winery will be closed on Sunday\, August 18th\, for a Wine & Barrel Club Event.  We apologize for the inconvenience. \nFor more information on our Wine & Barrel Clubs\, click here!
URL:https://rosemontofvirginia.com/event/winery-closed-for-club-member-event-2/
LOCATION:Rosemont\, 1050 Blackridge Road\, LaCrosse\, VA\, 23950\, United States
CATEGORIES:Closings
ATTACH;FMTTYPE=image/jpeg:https://rosemontofvirginia.com/wp-content/uploads/2022/04/header-winery-sunset-1920.jpg
END:VEVENT
BEGIN:VEVENT
DTSTART;TZID=America/New_York:20240818T130000
DTEND;TZID=America/New_York:20240818T180000
DTSTAMP:20260422T114747
CREATED:20240729T194555Z
LAST-MODIFIED:20240729T201246Z
UID:6574-1723986000-1724004000@rosemontofvirginia.com
SUMMARY:Wine Club Pick-Up Party
DESCRIPTION:Calling all Wine & Barrel Club Members!  Our next Wine Club Pick-Up Party will be Sunday\, August 18th\, from 1 – 6pm.  We’ll taste the three wines in the Mixed Wine Club Shipment\, have live music from BlueSided and Mama Roo’s Italian Kitchen will be selling their amazing food! \nAn RSVP is required for this event\, as we are limited to the capacity of the building.  To RSVP\, please email Kyndal at kyndal@rosemontofvirginia.com. \nThis event is floating from 1pm – 6pm and all seating is first-come-first-served.
URL:https://rosemontofvirginia.com/event/wine-club-pick-up-party-6/
LOCATION:Rosemont\, 1050 Blackridge Road\, LaCrosse\, VA\, 23950\, United States
CATEGORIES:Club Member Event
ATTACH;FMTTYPE=image/jpeg:https://rosemontofvirginia.com/wp-content/uploads/2022/04/pic-1858-lineage-1200.jpg
END:VEVENT
BEGIN:VEVENT
DTSTART;TZID=America/New_York:20240824T120000
DTEND;TZID=America/New_York:20240824T170000
DTSTAMP:20260422T114747
CREATED:20240709T163111Z
LAST-MODIFIED:20240709T163111Z
UID:6564-1724500800-1724518800@rosemontofvirginia.com
SUMMARY:Wine + Dine w/Sticky Rice
DESCRIPTION:Come out to Rosemont for an afternoon of wine and enjoy sushi from Sticky Rice! They will be on-site serving up their amazing sushi from 12 – 5pm. We hope you’ll stop by and join us for a bite and a glass or bottle of wine! \n*Please note that sushi will be cash only.
URL:https://rosemontofvirginia.com/event/wine-dine-w-sticky-rice-7/
LOCATION:Rosemont\, 1050 Blackridge Road\, LaCrosse\, VA\, 23950\, United States
CATEGORIES:Food
ATTACH;FMTTYPE=image/jpeg:https://rosemontofvirginia.com/wp-content/uploads/2023/06/Sticky-Rice.jpg
END:VEVENT
BEGIN:VEVENT
DTSTART;TZID=America/New_York:20240831T170000
DTEND;TZID=America/New_York:20240831T210000
DTSTAMP:20260422T114747
CREATED:20240424T171037Z
LAST-MODIFIED:20240801T135748Z
UID:6390-1725123600-1725138000@rosemontofvirginia.com
SUMMARY:Summer Concert Series with The Robbie McMillan Band
DESCRIPTION:Come help us celebrate Labor Day with The Robbie McMillan Band!  The Robbie McMillan Band plays a variety of music and we’re excited to welcome them back to the Rosemont stage! \n\nBring your lawn chairs\, blankets\, friends\, and family\, and join us for a fantastic night of music\, wine\, food\, and fun!  We’ll be welcoming back Off the Chain and The Cottage Barn who will be serving up some delicious food!\nAs always\, you are also welcome to bring your own picnic as well – just please no outside alcohol as our ABC Permit does not allow for it.  As before\, we will be joined by Buggs Island Brewing who will have some of their amazing craft beers on tap! \n\nGET YOUR TICKETS HERE
URL:https://rosemontofvirginia.com/event/summer-concert-series-with-the-robbie-mcmillan-band/
LOCATION:Rosemont\, 1050 Blackridge Road\, LaCrosse\, VA\, 23950\, United States
CATEGORIES:Event,Food,Music
ATTACH;FMTTYPE=image/jpeg:https://rosemontofvirginia.com/wp-content/uploads/2024/04/Robbie-McMilian.jpg
END:VEVENT
END:VCALENDAR