BEGIN:VCALENDAR
VERSION:2.0
PRODID:-//Rosemont of Virginia - ECPv6.15.20//NONSGML v1.0//EN
CALSCALE:GREGORIAN
METHOD:PUBLISH
X-WR-CALNAME:Rosemont of Virginia
X-ORIGINAL-URL:https://rosemontofvirginia.com
X-WR-CALDESC:Events for Rosemont of Virginia
REFRESH-INTERVAL;VALUE=DURATION:PT1H
X-Robots-Tag:noindex
X-PUBLISHED-TTL:PT1H
BEGIN:VTIMEZONE
TZID:America/New_York
BEGIN:DAYLIGHT
TZOFFSETFROM:-0500
TZOFFSETTO:-0400
TZNAME:EDT
DTSTART:20230312T070000
END:DAYLIGHT
BEGIN:STANDARD
TZOFFSETFROM:-0400
TZOFFSETTO:-0500
TZNAME:EST
DTSTART:20231105T060000
END:STANDARD
BEGIN:DAYLIGHT
TZOFFSETFROM:-0500
TZOFFSETTO:-0400
TZNAME:EDT
DTSTART:20240310T070000
END:DAYLIGHT
BEGIN:STANDARD
TZOFFSETFROM:-0400
TZOFFSETTO:-0500
TZNAME:EST
DTSTART:20241103T060000
END:STANDARD
BEGIN:DAYLIGHT
TZOFFSETFROM:-0500
TZOFFSETTO:-0400
TZNAME:EDT
DTSTART:20250309T070000
END:DAYLIGHT
BEGIN:STANDARD
TZOFFSETFROM:-0400
TZOFFSETTO:-0500
TZNAME:EST
DTSTART:20251102T060000
END:STANDARD
END:VTIMEZONE
BEGIN:VEVENT
DTSTART;TZID=America/New_York:20241005T110000
DTEND;TZID=America/New_York:20241005T170000
DTSTAMP:20260422T090136
CREATED:20240912T153402Z
LAST-MODIFIED:20240912T153402Z
UID:6639-1728126000-1728147600@rosemontofvirginia.com
SUMMARY:Wine + Dine w/The Kitchen Table
DESCRIPTION:Come out to Rosemont for an afternoon of wine and enjoy food from The Kitchen Table! They will be on-site serving their pre-made charcuterie boxes from 11 – 5pm. We hope you’ll stop by and join us for a bite and a glass or bottle of wine! \nClick here to pre-order a charcuterie box!
URL:https://rosemontofvirginia.com/event/wine-dine-w-the-kitchen-table-4/
LOCATION:Rosemont\, 1050 Blackridge Road\, LaCrosse\, VA\, 23950\, United States
CATEGORIES:Event,Food
ATTACH;FMTTYPE=image/jpeg:https://rosemontofvirginia.com/wp-content/uploads/2023/12/Charcuterie-Board.jpg
END:VEVENT
BEGIN:VEVENT
DTSTART;TZID=America/New_York:20241012T110000
DTEND;TZID=America/New_York:20241012T170000
DTSTAMP:20260422T090136
CREATED:20240812T211240Z
LAST-MODIFIED:20240812T211306Z
UID:6605-1728730800-1728752400@rosemontofvirginia.com
SUMMARY:Wine + Dine w/Beer Fed Beef
DESCRIPTION:Come out to Rosemont for an afternoon of wine and enjoy food from Beer Fed Beef! They are new to Rosemont and will be on-site serving their delicious food from 11 – 5pm. We hope you’ll stop by and join us for a bite and a glass or bottle of wine!
URL:https://rosemontofvirginia.com/event/wine-dine-w-beer-fed-beef/
LOCATION:Rosemont\, 1050 Blackridge Road\, LaCrosse\, VA\, 23950\, United States
CATEGORIES:Event,Food
ATTACH;FMTTYPE=image/jpeg:https://rosemontofvirginia.com/wp-content/uploads/2024/08/Beer-Fed-Beef.jpg
END:VEVENT
BEGIN:VEVENT
DTSTART;TZID=America/New_York:20241019T110000
DTEND;TZID=America/New_York:20241019T180000
DTSTAMP:20260422T090136
CREATED:20240731T165930Z
LAST-MODIFIED:20240912T144536Z
UID:6580-1729335600-1729360800@rosemontofvirginia.com
SUMMARY:15th Annual End of Harvest Festival
DESCRIPTION:Come help us celebrate the end of another successful harvest season!  It’s a day to kick back\, relax\, and enjoy the beautiful Fall weather and bounty of the vineyard. \nThere is no fee to attend – only a $15 tasting fee to enjoy wine for the day – Rosemont souvenir glass is included!  So bring the entire family and make a great afternoon of celebrating the end of harvest.  Here are just some of the activities that we’ll have available: \n\nGrape Stomp Competition @ 2:00 PM\nCome by early and sign up for the Grape Stomp Competition!  It is open to everyone so enter your name into the drawing for a chance to participate!  Put your name in at 11:00 AM and we will draw names starting at 2:00 pm.  Participating contestants will have the chance to win three great prizes!\n\nLive Music Starting @ 1:00 PM\nwith the West Street Band\n\n\nFood for Everyone All Day Long\nCooper’s Landing Inn and Traveler’s Tavern and A Taste of Texas will be here as well serving up their delicious food that many of you may be familiar with.  There are sure to be plenty of options available for everyone!\n\nActivities for the Entire Family!\nWe offer a variety of activities that the whole family can participate in – pumpkin painting and we’ll even have a great setup for a family photo opportunity\, so be sure to bring your camera!
URL:https://rosemontofvirginia.com/event/15th-annual-end-of-harvest-festival/
LOCATION:Rosemont\, 1050 Blackridge Road\, LaCrosse\, VA\, 23950\, United States
CATEGORIES:Event,Food,Music
ATTACH;FMTTYPE=image/jpeg:https://rosemontofvirginia.com/wp-content/uploads/2023/08/Feet-Stomping-2022.jpg
END:VEVENT
BEGIN:VEVENT
DTSTART;TZID=America/New_York:20241026T120000
DTEND;TZID=America/New_York:20241026T170000
DTSTAMP:20260422T090136
CREATED:20240819T163602Z
LAST-MODIFIED:20240927T192234Z
UID:6618-1729944000-1729962000@rosemontofvirginia.com
SUMMARY:Wine + Dine w/Sticky Rice
DESCRIPTION:Come out to Rosemont for an afternoon of wine and enjoy sushi from Sticky Rice! They will be on-site serving up their amazing sushi from 12 – 5pm. We hope you’ll stop by and join us for a bite and a glass or bottle of wine! \n*Please note that sushi will be cash only.
URL:https://rosemontofvirginia.com/event/wine-dine-w-sticky-rice-8/
LOCATION:Rosemont\, 1050 Blackridge Road\, LaCrosse\, VA\, 23950\, United States
CATEGORIES:Event,Food
ATTACH;FMTTYPE=image/jpeg:https://rosemontofvirginia.com/wp-content/uploads/2022/06/Sticky-Rice.jpeg
END:VEVENT
END:VCALENDAR