BEGIN:VCALENDAR
VERSION:2.0
PRODID:-//Rosemont of Virginia - ECPv6.15.20//NONSGML v1.0//EN
CALSCALE:GREGORIAN
METHOD:PUBLISH
X-ORIGINAL-URL:https://rosemontofvirginia.com
X-WR-CALDESC:Events for Rosemont of Virginia
REFRESH-INTERVAL;VALUE=DURATION:PT1H
X-Robots-Tag:noindex
X-PUBLISHED-TTL:PT1H
BEGIN:VTIMEZONE
TZID:America/New_York
BEGIN:DAYLIGHT
TZOFFSETFROM:-0500
TZOFFSETTO:-0400
TZNAME:EDT
DTSTART:20240310T070000
END:DAYLIGHT
BEGIN:STANDARD
TZOFFSETFROM:-0400
TZOFFSETTO:-0500
TZNAME:EST
DTSTART:20241103T060000
END:STANDARD
BEGIN:DAYLIGHT
TZOFFSETFROM:-0500
TZOFFSETTO:-0400
TZNAME:EDT
DTSTART:20250309T070000
END:DAYLIGHT
BEGIN:STANDARD
TZOFFSETFROM:-0400
TZOFFSETTO:-0500
TZNAME:EST
DTSTART:20251102T060000
END:STANDARD
BEGIN:DAYLIGHT
TZOFFSETFROM:-0500
TZOFFSETTO:-0400
TZNAME:EDT
DTSTART:20260308T070000
END:DAYLIGHT
BEGIN:STANDARD
TZOFFSETFROM:-0400
TZOFFSETTO:-0500
TZNAME:EST
DTSTART:20261101T060000
END:STANDARD
END:VTIMEZONE
BEGIN:VEVENT
DTSTART;TZID=America/New_York:20250308T120000
DTEND;TZID=America/New_York:20250308T170000
DTSTAMP:20260422T013034
CREATED:20250203T202923Z
LAST-MODIFIED:20250228T194813Z
UID:6876-1741435200-1741453200@rosemontofvirginia.com
SUMMARY:Wine + Dine w/Sticky Rice *Canceled*
DESCRIPTION:**Unfortunately\, this event has been canceled** \nCome out to Rosemont for an afternoon of wine and enjoy sushi from Sticky Rice! They will be on-site serving up their amazing sushi from 12 – 5pm. We hope you’ll stop by and join us for a bite and a glass or bottle of wine! \n*Please note that sushi will be cash only.
URL:https://rosemontofvirginia.com/event/wine-dine-w-sticky-rice-9/
LOCATION:Rosemont\, 1050 Blackridge Road\, LaCrosse\, VA\, 23950\, United States
CATEGORIES:Event,Food
ATTACH;FMTTYPE=image/jpeg:https://rosemontofvirginia.com/wp-content/uploads/2022/06/Sticky-Rice.jpeg
END:VEVENT
BEGIN:VEVENT
DTSTART;TZID=America/New_York:20250321T180000
DTEND;TZID=America/New_York:20250321T210000
DTSTAMP:20260422T013034
CREATED:20250206T182117Z
LAST-MODIFIED:20250217T170713Z
UID:6890-1742580000-1742590800@rosemontofvirginia.com
SUMMARY:Kilravock Blending Party - Friday Night
DESCRIPTION:Join us Friday\, March 21st\, or Saturday\, March 22nd as we walk through the process of crafting our signature red blend\, Kilravock! Taste the different varieties individually\, try your hand at your best blend\, and then finally taste what we will be putting into the bottle this coming May.\n\n\nThis special event is limited to Rosemont Barrel Club & 1858 Wine Club Members and friends only.  Tickets are $60 per person and go on sale February 17th.  Light refreshments will be served.
URL:https://rosemontofvirginia.com/event/kilravock-blending-party-2/
LOCATION:Rosemont\, 1050 Blackridge Road\, LaCrosse\, VA\, 23950\, United States
CATEGORIES:Club Member Event,Event
ATTACH;FMTTYPE=image/jpeg:https://rosemontofvirginia.com/wp-content/uploads/2023/02/Blending_1674413332.jpg
END:VEVENT
BEGIN:VEVENT
DTSTART;TZID=America/New_York:20250329T110000
DTEND;TZID=America/New_York:20250329T180000
DTSTAMP:20260422T013034
CREATED:20250203T211210Z
LAST-MODIFIED:20250203T211822Z
UID:6878-1743246000-1743271200@rosemontofvirginia.com
SUMMARY:Wine + Dine w/Cousins Maine Lobster
DESCRIPTION:Come out to Rosemont for an afternoon of wine and enjoy food from Cousins Maine Lobster! They will be on-site serving up their amazing food from 11 – 6pm. We hope you’ll stop by and join us for a bite and a glass or bottle of wine!
URL:https://rosemontofvirginia.com/event/wine-dine-w-cousins-maine-lobster-6/
LOCATION:Rosemont\, 1050 Blackridge Road\, LaCrosse\, VA\, 23950\, United States
CATEGORIES:Event,Food
ATTACH;FMTTYPE=image/png:https://rosemontofvirginia.com/wp-content/uploads/2023/12/Cousins-Maine-Lobster.png
END:VEVENT
END:VCALENDAR