BEGIN:VCALENDAR
VERSION:2.0
PRODID:-//Rosemont of Virginia - ECPv6.15.20//NONSGML v1.0//EN
CALSCALE:GREGORIAN
METHOD:PUBLISH
X-ORIGINAL-URL:https://rosemontofvirginia.com
X-WR-CALDESC:Events for Rosemont of Virginia
REFRESH-INTERVAL;VALUE=DURATION:PT1H
X-Robots-Tag:noindex
X-PUBLISHED-TTL:PT1H
BEGIN:VTIMEZONE
TZID:America/New_York
BEGIN:DAYLIGHT
TZOFFSETFROM:-0500
TZOFFSETTO:-0400
TZNAME:EDT
DTSTART:20240310T070000
END:DAYLIGHT
BEGIN:STANDARD
TZOFFSETFROM:-0400
TZOFFSETTO:-0500
TZNAME:EST
DTSTART:20241103T060000
END:STANDARD
BEGIN:DAYLIGHT
TZOFFSETFROM:-0500
TZOFFSETTO:-0400
TZNAME:EDT
DTSTART:20250309T070000
END:DAYLIGHT
BEGIN:STANDARD
TZOFFSETFROM:-0400
TZOFFSETTO:-0500
TZNAME:EST
DTSTART:20251102T060000
END:STANDARD
BEGIN:DAYLIGHT
TZOFFSETFROM:-0500
TZOFFSETTO:-0400
TZNAME:EDT
DTSTART:20260308T070000
END:DAYLIGHT
BEGIN:STANDARD
TZOFFSETFROM:-0400
TZOFFSETTO:-0500
TZNAME:EST
DTSTART:20261101T060000
END:STANDARD
END:VTIMEZONE
BEGIN:VEVENT
DTSTART;TZID=America/New_York:20251101T120000
DTEND;TZID=America/New_York:20251101T170000
DTSTAMP:20260421T145743
CREATED:20250925T175522Z
LAST-MODIFIED:20250925T175522Z
UID:7446-1761998400-1762016400@rosemontofvirginia.com
SUMMARY:Wine + Dine w/Sticky Rice
DESCRIPTION:Come out to Rosemont for an afternoon of wine and enjoy sushi from Sticky Rice! They will be on-site serving up their amazing sushi from 12 – 5pm. We hope you’ll stop by and join us for a bite and a glass or bottle of wine! \n*Please note that sushi will be cash only.
URL:https://rosemontofvirginia.com/event/wine-dine-w-sticky-rice-12/
LOCATION:Rosemont\, 1050 Blackridge Road\, LaCrosse\, VA\, 23950\, United States
CATEGORIES:Event,Food
ATTACH;FMTTYPE=image/jpeg:https://rosemontofvirginia.com/wp-content/uploads/2023/06/Sticky-Rice.jpg
END:VEVENT
BEGIN:VEVENT
DTSTART;TZID=America/New_York:20251108T110000
DTEND;TZID=America/New_York:20251108T170000
DTSTAMP:20260421T145743
CREATED:20251006T181906Z
LAST-MODIFIED:20251006T185407Z
UID:7460-1762599600-1762621200@rosemontofvirginia.com
SUMMARY:Wine + Dine w/Charr'd
DESCRIPTION:Come out to Rosemont for an afternoon of wine and enjoy food from Charr’d! They will be on-site serving up their delicious food from 11 – 5pm. We hope you’ll stop by and join us for a bite and a glass or bottle of wine!
URL:https://rosemontofvirginia.com/event/wine-dine-w-charrd-2/
LOCATION:Rosemont\, 1050 Blackridge Road\, LaCrosse\, VA\, 23950\, United States
CATEGORIES:Event,Food
ATTACH;FMTTYPE=image/jpeg:https://rosemontofvirginia.com/wp-content/uploads/2025/06/Charrd.jpg
END:VEVENT
BEGIN:VEVENT
DTSTART;TZID=America/New_York:20251115T110000
DTEND;TZID=America/New_York:20251115T170000
DTSTAMP:20260421T145743
CREATED:20250910T202717Z
LAST-MODIFIED:20250910T202717Z
UID:7421-1763204400-1763226000@rosemontofvirginia.com
SUMMARY:Wine + Dine w/The Kitchen Table
DESCRIPTION:Come out to Rosemont for an afternoon of wine and enjoy food from The Kitchen Table!  They will be on-site serving their charcuterie boxes and dips from 11 – 5pm. We hope you’ll stop by and join us for a bite and a glass or bottle of wine!
URL:https://rosemontofvirginia.com/event/wine-dine-w-the-kitchen-table-7/
LOCATION:Rosemont\, 1050 Blackridge Road\, LaCrosse\, VA\, 23950\, United States
CATEGORIES:Event,Food
ATTACH;FMTTYPE=image/jpeg:https://rosemontofvirginia.com/wp-content/uploads/2023/12/Charcuterie-Board.jpg
END:VEVENT
BEGIN:VEVENT
DTSTART;TZID=America/New_York:20251116T130000
DTEND;TZID=America/New_York:20251116T180000
DTSTAMP:20260421T145743
CREATED:20250925T182130Z
LAST-MODIFIED:20250925T182226Z
UID:7452-1763298000-1763316000@rosemontofvirginia.com
SUMMARY:Winery Closed For Club Member Event
DESCRIPTION:The Winery will be closed on Sunday\, November 16th\, for a Wine & Barrel Club Event.  We apologize for the inconvenience. \nFor more information on our Wine & Barrel Clubs\, click here!
URL:https://rosemontofvirginia.com/event/7452/
LOCATION:Rosemont\, 1050 Blackridge Road\, LaCrosse\, VA\, 23950\, United States
CATEGORIES:Closings,Club Member Event
ATTACH;FMTTYPE=image/jpeg:https://rosemontofvirginia.com/wp-content/uploads/2025/09/November.jpg
END:VEVENT
BEGIN:VEVENT
DTSTART;TZID=America/New_York:20251116T130000
DTEND;TZID=America/New_York:20251116T180000
DTSTAMP:20260421T145743
CREATED:20251027T152320Z
LAST-MODIFIED:20251027T152421Z
UID:7493-1763298000-1763316000@rosemontofvirginia.com
SUMMARY:Wine Club Pick-Up Party
DESCRIPTION:Calling all Wine & Barrel Club Members!  Our next Wine Club Pick-Up Party will be Sunday\, November 16th\, from 1 – 6pm.  We’ll taste the three wines in the Mixed Wine Club Shipment\, have live music from BlueSided and Beer Fed Beef will be selling their amazing food! \nAn RSVP is required for this event\, as we are limited to the capacity of the building.  To RSVP\, please email Kyndal at kyndal@rosemontofvirginia.com. \nThis event is floating from 1pm – 6pm and all seating is first-come-first-served.
URL:https://rosemontofvirginia.com/event/wine-club-pick-up-party-9/
LOCATION:Rosemont\, 1050 Blackridge Road\, LaCrosse\, VA\, 23950\, United States
CATEGORIES:Club Member Event,Food,Music
ATTACH;FMTTYPE=image/jpeg:https://rosemontofvirginia.com/wp-content/uploads/2025/06/rosemont-visit-10-03-2023-17.jpg
END:VEVENT
BEGIN:VEVENT
DTSTART;TZID=America/New_York:20251122T110000
DTEND;TZID=America/New_York:20251122T170000
DTSTAMP:20260421T145743
CREATED:20250925T175911Z
LAST-MODIFIED:20251111T205812Z
UID:7448-1763809200-1763830800@rosemontofvirginia.com
SUMMARY:Wine + Dine w/Beer Fed Beef - Canceled
DESCRIPTION:**Unfortunately\, we’ve had to cancel this Wine + Dine.  Be sure to check out one of our others!** \nCome out to Rosemont for an afternoon of wine and enjoy food from Beer Fed Beef! They will be on-site serving their delicious food from 11 – 5pm. We hope you’ll stop by and join us for a bite and a glass or bottle of wine!
URL:https://rosemontofvirginia.com/event/wine-dine-w-beer-fed-beef-7/
LOCATION:Rosemont\, 1050 Blackridge Road\, LaCrosse\, VA\, 23950\, United States
ATTACH;FMTTYPE=image/jpeg:https://rosemontofvirginia.com/wp-content/uploads/2024/08/Beer-Fed-Beef.jpg
END:VEVENT
BEGIN:VEVENT
DTSTART;TZID=America/New_York:20251127T110000
DTEND;TZID=America/New_York:20251127T180000
DTSTAMP:20260421T145743
CREATED:20250918T205128Z
LAST-MODIFIED:20250925T181012Z
UID:7435-1764241200-1764266400@rosemontofvirginia.com
SUMMARY:Winery Closed Thanksgiving Day
DESCRIPTION:The Winery will be closed for business on Thursday\, November 27th\, for the Thanksgiving holiday. \nWe are open regular business hours the remainder of the week:  11:00am – 6:00pm from Monday – Wednesday\, Friday & Saturday\, and then from 1:00pm – 6:00pm on Sunday. \nPlease note that the last flight of the day begins 30 minutes prior to closing.  We hope to see you then and please have a happy and safe Thanksgiving!
URL:https://rosemontofvirginia.com/event/winery-closed-thanksgiving-day-3/
LOCATION:Rosemont\, 1050 Blackridge Road\, LaCrosse\, VA\, 23950\, United States
CATEGORIES:Closings
ATTACH;FMTTYPE=image/jpeg:https://rosemontofvirginia.com/wp-content/uploads/2022/05/rosemont-full-winery.jpeg
END:VEVENT
END:VCALENDAR