BEGIN:VCALENDAR
VERSION:2.0
PRODID:-//Rosemont of Virginia - ECPv6.15.20//NONSGML v1.0//EN
CALSCALE:GREGORIAN
METHOD:PUBLISH
X-WR-CALNAME:Rosemont of Virginia
X-ORIGINAL-URL:https://rosemontofvirginia.com
X-WR-CALDESC:Events for Rosemont of Virginia
REFRESH-INTERVAL;VALUE=DURATION:PT1H
X-Robots-Tag:noindex
X-PUBLISHED-TTL:PT1H
BEGIN:VTIMEZONE
TZID:America/New_York
BEGIN:DAYLIGHT
TZOFFSETFROM:-0500
TZOFFSETTO:-0400
TZNAME:EDT
DTSTART:20250309T070000
END:DAYLIGHT
BEGIN:STANDARD
TZOFFSETFROM:-0400
TZOFFSETTO:-0500
TZNAME:EST
DTSTART:20251102T060000
END:STANDARD
BEGIN:DAYLIGHT
TZOFFSETFROM:-0500
TZOFFSETTO:-0400
TZNAME:EDT
DTSTART:20260308T070000
END:DAYLIGHT
BEGIN:STANDARD
TZOFFSETFROM:-0400
TZOFFSETTO:-0500
TZNAME:EST
DTSTART:20261101T060000
END:STANDARD
BEGIN:DAYLIGHT
TZOFFSETFROM:-0500
TZOFFSETTO:-0400
TZNAME:EDT
DTSTART:20270314T070000
END:DAYLIGHT
BEGIN:STANDARD
TZOFFSETFROM:-0400
TZOFFSETTO:-0500
TZNAME:EST
DTSTART:20271107T060000
END:STANDARD
END:VTIMEZONE
BEGIN:VEVENT
DTSTART;TZID=America/New_York:20260321T120000
DTEND;TZID=America/New_York:20260321T170000
DTSTAMP:20260421T094502
CREATED:20260213T181116Z
LAST-MODIFIED:20260213T181116Z
UID:7584-1774094400-1774112400@rosemontofvirginia.com
SUMMARY:Wine + Dine w/Sticky Rice
DESCRIPTION:Come out to Rosemont for an afternoon of wine and enjoy sushi from Sticky Rice! They will be on-site serving up their amazing sushi from 12 – 5pm. We hope you’ll stop by and join us for a bite and a glass or bottle of wine! \n*Please note that sushi will be cash only.
URL:https://rosemontofvirginia.com/event/wine-dine-w-sticky-rice-14/
LOCATION:Rosemont\, 1050 Blackridge Road\, LaCrosse\, VA\, 23950\, United States
CATEGORIES:Event,Food
ATTACH;FMTTYPE=image/jpeg:https://rosemontofvirginia.com/wp-content/uploads/2023/06/Sticky-Rice.jpg
END:VEVENT
BEGIN:VEVENT
DTSTART;TZID=America/New_York:20260327T180000
DTEND;TZID=America/New_York:20260328T210000
DTSTAMP:20260421T094502
CREATED:20260213T184636Z
LAST-MODIFIED:20260223T184417Z
UID:7591-1774634400-1774731600@rosemontofvirginia.com
SUMMARY:Kilravock Blending Party
DESCRIPTION:Join us Friday\, March 27th\, or Saturday\, March 28th (Saturday Night – Sold Out!) as we walk through the process of crafting our signature red blend\, Kilravock! Taste the different varieties individually\, try your hand at your best blend\, and then finally taste what we will be putting into the bottle this coming soon.\n\nThis special event is limited to Rosemont Barrel Club & 1858 Wine Club Members and friends.  Tickets are $60 and go on sale February 17th.  Light refreshments will be served.
URL:https://rosemontofvirginia.com/event/kilravock-blending-party-3/
LOCATION:Rosemont\, 1050 Blackridge Road\, LaCrosse\, VA\, 23950\, United States
CATEGORIES:Club Member Event,Event
ATTACH;FMTTYPE=image/jpeg:https://rosemontofvirginia.com/wp-content/uploads/2023/02/Blending_1674413332.jpg
END:VEVENT
END:VCALENDAR