BEGIN:VCALENDAR
VERSION:2.0
PRODID:-//Rosemont of Virginia - ECPv6.15.20//NONSGML v1.0//EN
CALSCALE:GREGORIAN
METHOD:PUBLISH
X-ORIGINAL-URL:https://rosemontofvirginia.com
X-WR-CALDESC:Events for Rosemont of Virginia
REFRESH-INTERVAL;VALUE=DURATION:PT1H
X-Robots-Tag:noindex
X-PUBLISHED-TTL:PT1H
BEGIN:VTIMEZONE
TZID:America/New_York
BEGIN:DAYLIGHT
TZOFFSETFROM:-0500
TZOFFSETTO:-0400
TZNAME:EDT
DTSTART:20210314T070000
END:DAYLIGHT
BEGIN:STANDARD
TZOFFSETFROM:-0400
TZOFFSETTO:-0500
TZNAME:EST
DTSTART:20211107T060000
END:STANDARD
BEGIN:DAYLIGHT
TZOFFSETFROM:-0500
TZOFFSETTO:-0400
TZNAME:EDT
DTSTART:20220313T070000
END:DAYLIGHT
BEGIN:STANDARD
TZOFFSETFROM:-0400
TZOFFSETTO:-0500
TZNAME:EST
DTSTART:20221106T060000
END:STANDARD
BEGIN:DAYLIGHT
TZOFFSETFROM:-0500
TZOFFSETTO:-0400
TZNAME:EDT
DTSTART:20230312T070000
END:DAYLIGHT
BEGIN:STANDARD
TZOFFSETFROM:-0400
TZOFFSETTO:-0500
TZNAME:EST
DTSTART:20231105T060000
END:STANDARD
END:VTIMEZONE
BEGIN:VEVENT
DTSTART;TZID=America/New_York:20220806T110000
DTEND;TZID=America/New_York:20220806T170000
DTSTAMP:20260424T001410
CREATED:20220727T190105Z
LAST-MODIFIED:20220727T190156Z
UID:4908-1659783600-1659805200@rosemontofvirginia.com
SUMMARY:Wine + Dine with The Kitchen Table
DESCRIPTION:Come out to Rosemont for an afternoon of wine and enjoy food from The Kitchen Table! They will be on-site serving their pre-made charcuterie boxes from 11 – 5pm. We hope you’ll stop by and join us for a bite and a glass or bottle of wine! \nFrom now through August 3rd\, you can pre-order their dips and charcuterie boxes to enjoy at the Winery or at home. \nClick Here to buy dips and boxes now! \nClick Here to make a reservation to join us! \nBoxes and dips may be picked up from the Winery on Saturday\, June 25th.  If you would like to enjoy your treats at the Winery\, please be sure to make a reservation!  All pre-orders MUST be placed by Wednesday\, June 22nd!
URL:https://rosemontofvirginia.com/event/wine-dine-with-the-kitchen-table/
LOCATION:Rosemont\, 1050 Blackridge Road\, LaCrosse\, VA\, 23950\, United States
CATEGORIES:Food
ATTACH;FMTTYPE=image/jpeg:https://rosemontofvirginia.com/wp-content/uploads/2022/07/mixed-food-platter.jpeg
END:VEVENT
END:VCALENDAR