BEGIN:VCALENDAR
VERSION:2.0
PRODID:-//Rosemont of Virginia - ECPv6.15.20//NONSGML v1.0//EN
CALSCALE:GREGORIAN
METHOD:PUBLISH
X-WR-CALNAME:Rosemont of Virginia
X-ORIGINAL-URL:https://rosemontofvirginia.com
X-WR-CALDESC:Events for Rosemont of Virginia
REFRESH-INTERVAL;VALUE=DURATION:PT1H
X-Robots-Tag:noindex
X-PUBLISHED-TTL:PT1H
BEGIN:VTIMEZONE
TZID:America/New_York
BEGIN:DAYLIGHT
TZOFFSETFROM:-0500
TZOFFSETTO:-0400
TZNAME:EDT
DTSTART:20220313T070000
END:DAYLIGHT
BEGIN:STANDARD
TZOFFSETFROM:-0400
TZOFFSETTO:-0500
TZNAME:EST
DTSTART:20221106T060000
END:STANDARD
BEGIN:DAYLIGHT
TZOFFSETFROM:-0500
TZOFFSETTO:-0400
TZNAME:EDT
DTSTART:20230312T070000
END:DAYLIGHT
BEGIN:STANDARD
TZOFFSETFROM:-0400
TZOFFSETTO:-0500
TZNAME:EST
DTSTART:20231105T060000
END:STANDARD
BEGIN:DAYLIGHT
TZOFFSETFROM:-0500
TZOFFSETTO:-0400
TZNAME:EDT
DTSTART:20240310T070000
END:DAYLIGHT
BEGIN:STANDARD
TZOFFSETFROM:-0400
TZOFFSETTO:-0500
TZNAME:EST
DTSTART:20241103T060000
END:STANDARD
END:VTIMEZONE
BEGIN:VEVENT
DTSTART;TZID=America/New_York:20230512T110000
DTEND;TZID=America/New_York:20230514T180000
DTSTAMP:20260423T114213
CREATED:20230426T164406Z
LAST-MODIFIED:20230426T165119Z
UID:5728-1683889200-1684087200@rosemontofvirginia.com
SUMMARY:Mother's Day Weekend w/ Jenny Cakes at the Lake
DESCRIPTION:Treat Mom to a sweet surprise when you join us at the Winery! We are happy to announce that we are partnering with Jenny Cakes at the Lake to offer special Brunch Box Bundles that you can pre-order for your visit with us! These bundles will be available from Friday to Sunday but must be pre-ordered by May 7th. This special pastry box contains a muffin\, scone\, cinnamon roll\, bagel\, donut\, and croissant. \nClick Here to purchase your Mother’s Day Bundles! \nClick Here to make a reservation to spend the afternoon with us!
URL:https://rosemontofvirginia.com/event/mothers-day-weekend-w-jenny-cakes-at-the-lake/
LOCATION:Rosemont\, 1050 Blackridge Road\, LaCrosse\, VA\, 23950\, United States
CATEGORIES:Event,Food
ATTACH;FMTTYPE=image/jpeg:https://rosemontofvirginia.com/wp-content/uploads/2023/04/Jenny-Cakes.jpg
END:VEVENT
BEGIN:VEVENT
DTSTART;TZID=America/New_York:20230513T120000
DTEND;TZID=America/New_York:20230513T173000
DTSTAMP:20260423T114213
CREATED:20230327T193402Z
LAST-MODIFIED:20230412T175239Z
UID:5642-1683979200-1683999000@rosemontofvirginia.com
SUMMARY:Wine + Dine with Lobster Dogs
DESCRIPTION:Come out to Rosemont for an afternoon of wine and enjoy food from Lobster Dogs! They will be on-site serving up their amazing lobster\, crab\, and shrimp rolls as well as their stuffed avocados from 12 – 5:30pm. We hope you’ll stop by and join us for a bite and a glass or bottle of wine! \nMay 13th and 14th is also Virginia Wine Love Weekend!  This is Virginia’s largest wine meet-up event and spans over the entire weekend and includes over 50 wineries!  Click here to learn more!
URL:https://rosemontofvirginia.com/event/wine-dine-with-lobster-dogs/
LOCATION:Rosemont\, 1050 Blackridge Road\, LaCrosse\, VA\, 23950\, United States
CATEGORIES:Event,Food
ATTACH;FMTTYPE=image/jpeg:https://rosemontofvirginia.com/wp-content/uploads/2023/03/Lobster-Dogs.jpg
END:VEVENT
END:VCALENDAR