BEGIN:VCALENDAR
VERSION:2.0
PRODID:-//Rosemont of Virginia - ECPv6.15.20//NONSGML v1.0//EN
CALSCALE:GREGORIAN
METHOD:PUBLISH
X-WR-CALNAME:Rosemont of Virginia
X-ORIGINAL-URL:https://rosemontofvirginia.com
X-WR-CALDESC:Events for Rosemont of Virginia
REFRESH-INTERVAL;VALUE=DURATION:PT1H
X-Robots-Tag:noindex
X-PUBLISHED-TTL:PT1H
BEGIN:VTIMEZONE
TZID:America/New_York
BEGIN:DAYLIGHT
TZOFFSETFROM:-0500
TZOFFSETTO:-0400
TZNAME:EDT
DTSTART:20230312T070000
END:DAYLIGHT
BEGIN:STANDARD
TZOFFSETFROM:-0400
TZOFFSETTO:-0500
TZNAME:EST
DTSTART:20231105T060000
END:STANDARD
BEGIN:DAYLIGHT
TZOFFSETFROM:-0500
TZOFFSETTO:-0400
TZNAME:EDT
DTSTART:20240310T070000
END:DAYLIGHT
BEGIN:STANDARD
TZOFFSETFROM:-0400
TZOFFSETTO:-0500
TZNAME:EST
DTSTART:20241103T060000
END:STANDARD
BEGIN:DAYLIGHT
TZOFFSETFROM:-0500
TZOFFSETTO:-0400
TZNAME:EDT
DTSTART:20250309T070000
END:DAYLIGHT
BEGIN:STANDARD
TZOFFSETFROM:-0400
TZOFFSETTO:-0500
TZNAME:EST
DTSTART:20251102T060000
END:STANDARD
END:VTIMEZONE
BEGIN:VEVENT
DTSTART;TZID=America/New_York:20240127T190000
DTEND;TZID=America/New_York:20240127T220000
DTSTAMP:20260422T234554
CREATED:20231201T200537Z
LAST-MODIFIED:20240111T200908Z
UID:6037-1706382000-1706392800@rosemontofvirginia.com
SUMMARY:2021 Kilravock Release Party
DESCRIPTION:Saturday\, January 27th\n7:00 PM – 10:00 PM \n**Limited Tickets Remain!** \nWe’ll be hosting our 2021 Kilravock Release Party on Saturday\, January 27th!  Our Kilravock Release Party is a big night at the Winery where we dress in kilts and Rose tartan and get our first taste of the newest vintage of Kilravock.  Don’t have a kilt? Not a problem – bring your best and prepare for a festive evening celebrating our signature red blend! \nThis year we are looking forward to pairing our 2021 Kilravock with some Scottish-inspired bites provided by Coooper’s Landing.  We will also be joined by a Celtic band from Raleigh\, NC\, the Barrowburn Band\, who will set the mood for this fun evening! \nAs always\, door prizes will given away throughout the evening.  Past prizes have included a flight of older vintages of Kilravock\, a Barrel Tasting\, tickets to next year’s event\, tickets to our Kilravock Blending Party\, and more!  Everyone who purchases a ticket will be entered to win! \nTickets are $125 and all-inclusive – Kilravock all night long\, food\, door prizes\, entertainment\, and more! \nThis event is a Club Exclusive event\, open to our Barrel Club and 1858 Wine Club members and their guests only. \nFor more information\, or to reserve your ticket\, please call the Winery directly at 434-636-9463. 
URL:https://rosemontofvirginia.com/event/2021-kilravock-release-party/
LOCATION:Rosemont\, 1050 Blackridge Road\, LaCrosse\, VA\, 23950\, United States
CATEGORIES:Club Member Event,Event,Food
ATTACH;FMTTYPE=image/jpeg:https://rosemontofvirginia.com/wp-content/uploads/2023/12/kilravock-release-party_FB-Cover.jpg
END:VEVENT
END:VCALENDAR