BEGIN:VCALENDAR
VERSION:2.0
PRODID:-//Rosemont of Virginia - ECPv6.15.20//NONSGML v1.0//EN
CALSCALE:GREGORIAN
METHOD:PUBLISH
X-WR-CALNAME:Rosemont of Virginia
X-ORIGINAL-URL:https://rosemontofvirginia.com
X-WR-CALDESC:Events for Rosemont of Virginia
REFRESH-INTERVAL;VALUE=DURATION:PT1H
X-Robots-Tag:noindex
X-PUBLISHED-TTL:PT1H
BEGIN:VTIMEZONE
TZID:America/New_York
BEGIN:DAYLIGHT
TZOFFSETFROM:-0500
TZOFFSETTO:-0400
TZNAME:EDT
DTSTART:20230312T070000
END:DAYLIGHT
BEGIN:STANDARD
TZOFFSETFROM:-0400
TZOFFSETTO:-0500
TZNAME:EST
DTSTART:20231105T060000
END:STANDARD
BEGIN:DAYLIGHT
TZOFFSETFROM:-0500
TZOFFSETTO:-0400
TZNAME:EDT
DTSTART:20240310T070000
END:DAYLIGHT
BEGIN:STANDARD
TZOFFSETFROM:-0400
TZOFFSETTO:-0500
TZNAME:EST
DTSTART:20241103T060000
END:STANDARD
BEGIN:DAYLIGHT
TZOFFSETFROM:-0500
TZOFFSETTO:-0400
TZNAME:EDT
DTSTART:20250309T070000
END:DAYLIGHT
BEGIN:STANDARD
TZOFFSETFROM:-0400
TZOFFSETTO:-0500
TZNAME:EST
DTSTART:20251102T060000
END:STANDARD
END:VTIMEZONE
BEGIN:VEVENT
DTSTART;TZID=America/New_York:20240704T110000
DTEND;TZID=America/New_York:20240708T180000
DTSTAMP:20260422T143434
CREATED:20240703T205907Z
LAST-MODIFIED:20240703T205938Z
UID:6552-1720090800-1720461600@rosemontofvirginia.com
SUMMARY:Independence Day Holiday Hours
DESCRIPTION:We will be open for the Independence Day Holiday!  Our hours are as follows: \nThursday\, July 4th – 11am – 6pm\nFriday\, July 5th – 11am – 4pm\nSaturday\, July 6th – 11am – 6pm\nSunday\, July 7th – 1pm – 6pm\nMonday\, July 8th – 11am – 6pm \nPlease note the last tastings and flights are served 30 minutes prior to close.  We look forward to seeing you!
URL:https://rosemontofvirginia.com/event/independence-day-weekend-hours/
LOCATION:Rosemont\, 1050 Blackridge Road\, LaCrosse\, VA\, 23950\, United States
CATEGORIES:Holidays
ATTACH;FMTTYPE=image/jpeg:https://rosemontofvirginia.com/wp-content/uploads/2024/04/July4thConcertB.jpg
END:VEVENT
BEGIN:VEVENT
DTSTART;TZID=America/New_York:20240706T110000
DTEND;TZID=America/New_York:20240706T170000
DTSTAMP:20260422T143434
CREATED:20240507T195825Z
LAST-MODIFIED:20240507T195901Z
UID:6453-1720263600-1720285200@rosemontofvirginia.com
SUMMARY:Wine + Dine w/A Taste of Texas
DESCRIPTION:Come out to Rosemont for an afternoon of wine and enjoy food from A Taste of Texas! They will be on-site serving their BBQ from 11 – 5pm. We hope you’ll stop by and join us for a bite and a glass or bottle of wine!
URL:https://rosemontofvirginia.com/event/winedine-w-a-taste-of-texas/
LOCATION:Rosemont\, 1050 Blackridge Road\, LaCrosse\, VA\, 23950\, United States
CATEGORIES:Food
ATTACH;FMTTYPE=image/png:https://rosemontofvirginia.com/wp-content/uploads/2024/03/ATOT-1.png
END:VEVENT
END:VCALENDAR