BEGIN:VCALENDAR
VERSION:2.0
PRODID:-//Rosemont of Virginia - ECPv6.15.20//NONSGML v1.0//EN
CALSCALE:GREGORIAN
METHOD:PUBLISH
X-ORIGINAL-URL:https://rosemontofvirginia.com
X-WR-CALDESC:Events for Rosemont of Virginia
REFRESH-INTERVAL;VALUE=DURATION:PT1H
X-Robots-Tag:noindex
X-PUBLISHED-TTL:PT1H
BEGIN:VTIMEZONE
TZID:America/New_York
BEGIN:DAYLIGHT
TZOFFSETFROM:-0500
TZOFFSETTO:-0400
TZNAME:EDT
DTSTART:20240310T070000
END:DAYLIGHT
BEGIN:STANDARD
TZOFFSETFROM:-0400
TZOFFSETTO:-0500
TZNAME:EST
DTSTART:20241103T060000
END:STANDARD
BEGIN:DAYLIGHT
TZOFFSETFROM:-0500
TZOFFSETTO:-0400
TZNAME:EDT
DTSTART:20250309T070000
END:DAYLIGHT
BEGIN:STANDARD
TZOFFSETFROM:-0400
TZOFFSETTO:-0500
TZNAME:EST
DTSTART:20251102T060000
END:STANDARD
BEGIN:DAYLIGHT
TZOFFSETFROM:-0500
TZOFFSETTO:-0400
TZNAME:EDT
DTSTART:20260308T070000
END:DAYLIGHT
BEGIN:STANDARD
TZOFFSETFROM:-0400
TZOFFSETTO:-0500
TZNAME:EST
DTSTART:20261101T060000
END:STANDARD
END:VTIMEZONE
BEGIN:VEVENT
DTSTART;TZID=America/New_York:20250501T110000
DTEND;TZID=America/New_York:20250523T180000
DTSTAMP:20260422T002413
CREATED:20250228T172848Z
LAST-MODIFIED:20250506T165746Z
UID:6930-1746097200-1748023200@rosemontofvirginia.com
SUMMARY:Macarons & Mimosas
DESCRIPTION:Celebrate Mom\, or yourself\, during the month of May with Macarons & Mimosas! From May 1st to May 23rd*\, we’ll be offering a delicious sampler of French Macarons by Duverger that you can pair with a mimosa or mockmosa! So bring the entire family\, or your friends\, and make it a month to remember. \nOn Mother’s Day\, May 11th\, we’ll be joined by Steady Porch Farms\, who will be selling their beautiful\, locally grown flowers by the bouquet\, and The Kitchen Table\, who will have their fresh charcuterie boxes in a variety of sizes\, as well as their famous dips and salads! \n\n\nMacaron Sampler Box – $15\nTry a box of classic French macaron flavors\, including Chocolate\, Raspberry\, Pistachio\, Salted Caramel\, Lemon\, and Earl Gray. \nMimosas – $12 & Mockmosas – $8\nEnjoy a glass of our Extra Brut Sparkling White or a glass of Non-Alcoholic Grape Juice blended with your choice of Orange\, Cranberry\, Peach\, or Pineapple juice. \nMacaron & Mingle – $33\nEnjoy the best of both worlds! A Macaron Sampler Box and two Mimosas – which may be substituted for a mockmosa. \n\n*While supplies last.
URL:https://rosemontofvirginia.com/event/6930/
LOCATION:Rosemont\, 1050 Blackridge Road\, LaCrosse\, VA\, 23950\, United States
CATEGORIES:Event
END:VEVENT
BEGIN:VEVENT
DTSTART;TZID=America/New_York:20250511T130000
DTEND;TZID=America/New_York:20250511T180000
DTSTAMP:20260422T002413
CREATED:20250328T183507Z
LAST-MODIFIED:20250507T144006Z
UID:6973-1746968400-1746986400@rosemontofvirginia.com
SUMMARY:Mother's Day at the Winery
DESCRIPTION:Come celebrate Mom and the other important women in your life at Rosmeont Winery!  On Sunday\, May 11th\, we’ll be offering a delicious sampler of French Macarons by Duverger that you can pair with a mimosa or mockmosa! So bring the entire family\, or your friends\, and make it a month to remember. \nWe’ll be joined by Steady Porch Farms\, who will be selling their beautiful\, locally grown flowers by the bouquet and The Kitchen Table who will be selling their fresh charcuterie boxes in a variety of sizes\, as well as their homemade dips and chicken salad.  To pre-order your charcuterie board or other food from The Kitchen Table please click here!
URL:https://rosemontofvirginia.com/event/mothers-day-at-the-winery/
LOCATION:Rosemont\, 1050 Blackridge Road\, LaCrosse\, VA\, 23950\, United States
CATEGORIES:Event,Food
ATTACH;FMTTYPE=image/jpeg:https://rosemontofvirginia.com/wp-content/uploads/2022/04/header-vineyard-building-1920.jpg
END:VEVENT
END:VCALENDAR