BEGIN:VCALENDAR
VERSION:2.0
PRODID:-//Rosemont of Virginia - ECPv6.15.20//NONSGML v1.0//EN
CALSCALE:GREGORIAN
METHOD:PUBLISH
X-ORIGINAL-URL:https://rosemontofvirginia.com
X-WR-CALDESC:Events for Rosemont of Virginia
REFRESH-INTERVAL;VALUE=DURATION:PT1H
X-Robots-Tag:noindex
X-PUBLISHED-TTL:PT1H
BEGIN:VTIMEZONE
TZID:America/New_York
BEGIN:DAYLIGHT
TZOFFSETFROM:-0500
TZOFFSETTO:-0400
TZNAME:EDT
DTSTART:20250309T070000
END:DAYLIGHT
BEGIN:STANDARD
TZOFFSETFROM:-0400
TZOFFSETTO:-0500
TZNAME:EST
DTSTART:20251102T060000
END:STANDARD
BEGIN:DAYLIGHT
TZOFFSETFROM:-0500
TZOFFSETTO:-0400
TZNAME:EDT
DTSTART:20260308T070000
END:DAYLIGHT
BEGIN:STANDARD
TZOFFSETFROM:-0400
TZOFFSETTO:-0500
TZNAME:EST
DTSTART:20261101T060000
END:STANDARD
BEGIN:DAYLIGHT
TZOFFSETFROM:-0500
TZOFFSETTO:-0400
TZNAME:EDT
DTSTART:20270314T070000
END:DAYLIGHT
BEGIN:STANDARD
TZOFFSETFROM:-0400
TZOFFSETTO:-0500
TZNAME:EST
DTSTART:20271107T060000
END:STANDARD
END:VTIMEZONE
BEGIN:VEVENT
DTSTART;TZID=America/New_York:20260202T110000
DTEND;TZID=America/New_York:20260228T180000
DTSTAMP:20260421T122819
CREATED:20260115T203204Z
LAST-MODIFIED:20260115T203204Z
UID:7545-1770030000-1772301600@rosemontofvirginia.com
SUMMARY:Wine & Chocolates Pairing
DESCRIPTION:Join us this Valentine’s season for a special treat at the Winery!  For the entire month of February*\, you can turn our everyday tastings and flights into a special treat with our Wine & Chocolate Wine Pairing! \n\n\nOur regular wine tasting and flight fees are $15 to $20\, but for an extra $6\, you can experience handcrafted chocolates paired with our wines! It’s going to be such fun – the pairings are divine!  What better way to celebrate the season! \n\nRound up your sweetheart or your best friends and come out for this fun experience!\n\n*While supplies last.
URL:https://rosemontofvirginia.com/event/wine-chocolates-pairing/
LOCATION:Rosemont\, 1050 Blackridge Road\, LaCrosse\, VA\, 23950\, United States
CATEGORIES:Event
END:VEVENT
BEGIN:VEVENT
DTSTART;TZID=America/New_York:20260214T110000
DTEND;TZID=America/New_York:20260214T170000
DTSTAMP:20260421T122819
CREATED:20260114T213854Z
LAST-MODIFIED:20260210T184427Z
UID:7539-1771066800-1771088400@rosemontofvirginia.com
SUMMARY:Wine + Dine w/The Kitchen Table
DESCRIPTION:Come out to Rosemont for an afternoon of wine and enjoy food from The Kitchen Table! They will be on-site serving their pre-made charcuterie boxes from 11 – 5pm. We hope you’ll stop by and join us for a bite and a glass or bottle of wine! \nTo pre-order click here!
URL:https://rosemontofvirginia.com/event/wine-dine-w-the-kitchen-table-8/
LOCATION:Rosemont\, 1050 Blackridge Road\, LaCrosse\, VA\, 23950\, United States
CATEGORIES:Event,Food
ATTACH;FMTTYPE=image/jpeg:https://rosemontofvirginia.com/wp-content/uploads/2023/12/Charcuterie-Board.jpg
END:VEVENT
END:VCALENDAR